Workbook

Sheet 0 REKAPITULACIJA
A1: IZGRADNJA ODLAGALIŠČA NIZKO- IN SREDNJERADIOAKTIVNIH ODPADKOV (NSRAO) VRBINA, KRŠKO
A2: Program dela Zunanje kontrole kvalitete (ZKK)
J3: PRILOGA 2
A4: POPIS DEL Z LISTO CEN
A7: 0 | B7: REKAPITULACIJA
J9: OCENJENA VREDNOST
B10: 1 | C10: SPLOŠNE AKTIVNOSTI | J10: ='1_SPLOŠNE AKTIVNOSTI'!K23 -> 0
C11: 1.1 | D11: Zemeljska, geotehnična,hidroizolacijska in asfalterska dela | J11: ='1_SPLOŠNE AKTIVNOSTI'!K10 -> 0
C12: 1.2 | D12: Betonska dela | J12: ='1_SPLOŠNE AKTIVNOSTI'!K12 -> 0
C13: 1.3 | D13: Kovinske konstrukcije in armaturno jeklo | J13: ='1_SPLOŠNE AKTIVNOSTI'!K14 -> 0
C14: 1.4 | D14: Portalno dvigalo | J14: ='1_SPLOŠNE AKTIVNOSTI'!K16 -> 0
C15: 1.5 | D15: Geodetska dela | J15: ='1_SPLOŠNE AKTIVNOSTI'!K18 -> 0
C16: 1.6 | D16: Ostalo - nepredvidena dela | J16: ='1_SPLOŠNE AKTIVNOSTI'!K20 -> 0
C17: 1.7 | D17: Končno poročilo | J17: ='1_SPLOŠNE AKTIVNOSTI'!K22 -> 0
B18: 2 | C18: UPRAVNO SERVISNI OBJEKT | J18: ='2_UPRAVNO SERVISNI OBJ.'!K113 -> 0
C19: 2.1 | D19: Pregled tehnoloških elaboratov | J19: ='2_UPRAVNO SERVISNI OBJ.'!K16 -> 0
C20: 2.2 | D20: Zemeljska dela in temeljenje | J20: ='2_UPRAVNO SERVISNI OBJ.'!K45 -> 0
C21: 2.3 | D21: Armaturna jekla | J21: ='2_UPRAVNO SERVISNI OBJ.'!K56 -> 0
C22: 2.4 | D22: Kovinske konstrukcije | J22: ='2_UPRAVNO SERVISNI OBJ.'!K69 -> 0
C23: 2.5 | D23: Hidroizolacijska dela | J23: ='2_UPRAVNO SERVISNI OBJ.'!K81 -> 0
C24: 2.6 | D24: Betonska dela | J24: ='2_UPRAVNO SERVISNI OBJ.'!K111 -> 0
B25: 3 | C25: TEHNOLOŠKI OBJEKT | J25: ='3_TEHNOLOŠKI OBJEKT'!K136 -> 0
C26: 3.1 | D26: Pregled tehnoloških elaboratov | J26: ='3_TEHNOLOŠKI OBJEKT'!K16 -> 0
C27: 3.2 | D27: Zemeljska dela in temeljenje | J27: ='3_TEHNOLOŠKI OBJEKT'!K45 -> 0
C28: 3.3 | D28: Armaturna jekla | J28: ='3_TEHNOLOŠKI OBJEKT'!K56 -> 0
C29: 3.4 | D29: Kovinske konstrukcije | J29: ='3_TEHNOLOŠKI OBJEKT'!K69 -> 0
C30: 3.5 | D30: Hidroizolacijska dela | J30: ='3_TEHNOLOŠKI OBJEKT'!K77 -> 0
C31: 3.6 | D31: Jet grouting | J31: ='3_TEHNOLOŠKI OBJEKT'!K102 -> 0
C32: 3.7 | D32: Betonska dela | J32: ='3_TEHNOLOŠKI OBJEKT'!K133 -> 0
B33: 4 | C33: SILOS | J33: ='4_SILOS'!K224 -> 0
C34: 4.1 | D34: Pregled tehnoloških elaboratov | J34: ='4_SILOS'!K17 -> 0
C35: 4.2 | D35: Zemeljska dela in temeljenje | J35: ='4_SILOS'!K47 -> 0
C36: 4.3 | D36: Armaturna jekla | J36: ='4_SILOS'!K59 -> 0
C37: 4.4 | D37: Kovinske konstrukcije | J37: ='4_SILOS'!K73 -> 0
C38: 4.5 | D38: Hidroizolacijska dela | J38: ='4_SILOS'!K86 -> 0
C39: 4.6 | D39: Geotekstil | J39: ='4_SILOS'!K104 -> 0
C40: 4.7 | D40: Kontola varovanja in zaščite gradbene jame - debelostensk diafragma | J40: ='4_SILOS'!K114 -> 0
C41: 4.8 | D41: Drenažne cevi | J41: ='4_SILOS'!K124 -> 0
C42: 4.9 | D42: Betonska dela | J42: ='4_SILOS'!K192 -> 0
C43: 4.10 | D43: Osnovni materialai za proizvodnjo betonov | J43: ='4_SILOS'!K221 -> 0
...

Sheet 1_SPLOŠNE AKTIVNOSTI
A1: IZGRADNJA ODLAGALIŠČA NIZKO- IN SREDNJERADIOAKTIVNIH ODPADKOV (NSRAO) VRBINA, KRŠKO
A2: Program dela Zunanje kontrole kvalitete (ZKK)
A4: 1 | B4: SPLOŠNE AKTIVNOSTI
A6: Zap. štev. | B6: Vrsta preiskave | D6: Metoda preiskave | E6: Akreditacija DA/NE | F6: Obseg del | H6: Zunanja kontrola | J6: Vrednost (EUR)
F7: enota mere | G7: količina mesecev | H7: na enoto | I7: število | J7: C/E v EUR | K7: skupaj
A8: 1.0 | B8: KONZULTACIJE IN SPREMLJAVA:
A9: 1.1 | B9: ZEMELJSKA, GEOTEHNIČNA, HIDROIZOLACIJSKA IN ASFALTERSKA DELA
A10: 1.1.1. | B10: Izvedba aktivnosti v času od pričetka do zaključka del ki obsega: - prisotnost na operativnih sestankih in na gradbišču, - sodelovanje z INŽENIRJEM na gradbišču, - konzultacije in svetovanje - kontrola in pregled poročil notranje kontrole kvalitete izvajalca. | D10: po projektu in PTP | E10: - | F10: inž.dan | G10: 36 | H10: 2xinž.dan/mesec | I10: =+G10*2 -> 72 | K10: =+I10*J10 -> 0
A11: 1.2 | B11: BETONSKA DELA
A12: 1.2.1. | B12: Izvedba aktivnosti v času od pričetka do zaključka del ki obsega: - prisotnost na operativnih sestankih in na gradbišču, - sodelovanje z INŽENIRJEM na gradbišču, - konzultacije in svetovanje - kontrola in pregled poročil notranje kontrole kvalitete izvajalca. | D12: po projektu in PTP | E12: - | F12: inž.dan | G12: 36 | H12: 4xinž.dan/mesec | I12: 144 | K12: =+I12*J12 -> 0
A13: 1.3 | B13: KOVINSKE KONSTRUKCIJE IN ARMATURNO JEKLO
A14: 1.3.1. | B14: Izvedba aktivnosti v času od pričetka do zaključka del ki obsega: - prisotnost na operativnih sestankih in na gradbišču, - sodelovanje z INŽENIRJEM na gradbišču, - konzultacije in svetovanje - kontrola in pregled poročil notranje kontrole kvalitete izvajalca. | D14: po projektu in PTP | E14: - | F14: inž.dan | G14: 18 | H14: 2xinž.dan/mesec | I14: =+G14*2 -> 36 | K14: =+I14*J14 -> 0
A15: 1.4 | B15: POTRALNO DVIGALO IN PRIJEMALO
A16: 1.4.1. | B16: Izvedba aktivnosti v času od pričetka do zaključka del ki obsega: - prisotnost na operativnih sestankih in na gradbišču, - sodelovanje z INŽENIRJEM na gradbišču, - konzultacije in svetovanje - kontrola in pregled poročil notranje kontrole kvalitete izvajalca. | D16: po projektu in PTP | E16: - | F16: inž.dan | G16: 9 | H16: 2xinž.dan/mesec | I16: =+G16*2 -> 18 | K16: =+I16*J16 -> 0
A17: 1.5 | B17: GEODETSKA DELA
A18: 1.5.1. | B18: Izvedba aktivnosti v času od pričetka do zaključka del ki obsega: - prisotnost na operativnih sestankih in na gradbišču, - sodelovanje z INŽENIRJEM na gradbišču, - konzultacije in svetovanje - kontrola in pregled poročil notranje kontrole kvalitete izvajalca. | D18: po projektu in PTP | E18: - | F18: inž.dan | G18: 18 | H18: 1xinž.dan/mesec | I18: 18 | K18: =+I18*J18 -> 0
A19: 1.6 | B19: OSTALO - nepredvidena dela
A20: 1.6.1 | B20: Dodatne koordinacije, ostale meritve, preiskave, pregledi (več in nepredvidena dela), poročila, mnenja, ki niso zajeta v osnovnih postavka, jih pa je za zagotovitev in kontrolo kvalitete izvedbe ter za potrebe izdelave končnih poročil, ocen, potrebno izvršiti. Meritve, preiskave, pregledi, sestanki, koordinacije se izvedejo na podlagi naročila INŽENIRJA ali INVESTITORJA, obračun se izvede po dejansko porabljenem času in porabi materiala ter ostalih stroškov (7 % pogodbene vrednosti) | D20: po projektu in PTP | E20: - | F20: % | G20: 7 | I20: 1 | K20: =I20*J20 -> 0
A21: 1.7 | B21: KONČNO POROČILO
A22: 1.7.1 | B22: Končno skupno poročilo izvedenih preiskav zunanje kontrole kvalitete | I22: 1 | K22: =+I22*J22 -> 0
F23: SKUPAJ: | G23: =+B8 -> KONZULTACIJE IN SPREMLJAVA: | K23: =SUM(K10:K22) -> 0

Sheet 2_UPRAVNO SERVISNI OBJ.
A1: IZGRADNJA ODLAGALIŠČA NIZKO- IN SREDNJERADIOAKTIVNIH ODPADKOV (NSRAO) VRBINA, KRŠKO
A2: Program dela Zunanje kontrole kvalitete (ZKK)
A5: 2 | B5: UPRAVNO SERVISNI OBJEKT
A8: 2.1 PREGLED TEHNOLOŠKIH ELABORATOV IN PODAJA MNENJ
A10: Zap. štev. | B10: Predmet kontrole | C10: Vrsta preiskav | D10: Metoda preiskave | E10: Akreditacija DA/NE | F10: Obseg del | H10: Zunanja kontrola | J10: Vrednost (EUR)
F11: enota mere | G11: količina | H11: na enoto | I11: število | J11: C/E v EUR | K11: skupaj
A12: 2.1.1. | B12: Tehnološki elaborati za zemeljska dela | D12: po projektnih zahtevah in PTP | E12: - | F12: kom | G12: 1 | H12: 1/kom | I12: 1 | K12: =+J12*I12 -> 0
A13: 2.1.2. | B13: Tehnološki elaborati betonerskih del | D13: po projektnih zahtevah in PTP | E13: - | F13: kom | G13: 1 | H13: 1/kom | I13: 1 | K13: =+J13*I13 -> 0
A14: 2.1.3. | B14: Tehnološki elaborat za vidne betone s poskusnimi polji | D14: po projektnih zahtevah in PTP | E14: - | F14: kom | G14: 1 | H14: 1/kom | I14: 1 | K14: =+J14*I14 -> 0
A15: 2.1.4. | B15: Tehnološki elaborat obrtniških del | D15: po projektnih zahtevah in PTP | E15: - | F15: kom | G15: 1 | H15: 1/kom | I15: 1 | K15: =+J15*I15 -> 0
F16: SKUPAJ: | G16: =+A8 -> 2.1 PREGLED TEHNOLOŠKIH ELABORATOV IN PODAJA MNENJ | K16: =SUM(K12:K13) -> 0
A18: 2.2 ZEMELJSKA DELA IN TEMELJENJE
A20: 2.2.1. | B20: Temeljna tla
B21: Pregledi temeljnih tal in brežin (ogledi terena in temeljnih tal, kontrola pri vgrajevanju, pregledi tal pod temelji objektov (plitvo) | D21: po projektnih zahtevah, PTP, Evrokod 7 | E21: - | F21: št.objektov | G21: - | I21: 11 | K21: =+J21*I21 -> 0
A22: 2.2.2. | B22: Temeljna tla mehansko utrjena-TTMU | K22: =+J22*I22 -> 0
B23: - gostota in vlažnost (z izotopsko sondo) | D23: TSC 06.711 | E23: DA | F23: m2 | G23: 1500 | H23: 200 | I23: 40 | K23: =+J23*I23 -> 0
B24: - dinamični deformacijski modul - Evd | D24: TSC 06.720 | E24: DA | F24: m2 | G24: 1500 | H24: 400 | I24: 20 | K24: =+J24*I24 -> 0
B25: - statični deformacijski modul - Ev2 | D25: TSC 06.720 | E25: DA | F25: m2 | G25: 1500 | H25: 2000 | I25: 4 | K25: =+J25*I25 -> 0
B26: - zrnavost (kamniti materiali) | D26: SIST EN 933-1:2012 | E26: DA | F26: m2 | G26: 1500 | H26: 10000 | I26: 4 | K26: =+J26*I26 -> 0
B27: - Proctorjev preskus | D27: SIST EN 13286-2:2010/AC:2013 | E27: DA | F27: m2 | G27: 1500 | H27: 10000 | I27: 4 | K27: =+J27*I27 -> 0
B28: - vlažnost (zemljine) | D28: SIST EN ISO 17892-1:2015 in SIST EN 1097-5:2008 | E28: DA | F28: m2 | G28: 1500 | H28: 10000 | I28: 4 | K28: =+J28*I28 -> 0
B29: - delež humoznih primesi | D29: SIST EN 1744-1:2010+A1:2013, T15.1 | E29: DA | F29: m2 | G29: 1500 | H29: 10000 | I29: 4 | K29: =+J29*I29 -> 0
B30: - konsistenčne meje vezljivih zemljin | D30: SIST EN ISO 17892-12:2018 | E30: DA | F30: m2 | G30: 1500 | H30: 10000 | I30: 2 | K30: =+J30*I30 -> 0
A31: 2.2.3 | B31: Drenažne in filtrske plasti, nasipi, zasipi, klini, posteljica in tampon | K31: =+J31*I31 -> 0
B32: Kontrola vgrajevanja | K32: =+J32*I32 -> 0
B33: - kontrola vgradnje, materialov in debeline plasti | D33: po projektnih zahtevah, PTP | E33: NE | F33: m3 | G33: 1250 | H33: - | I33: 5 | K33: =+J33*I33 -> 0
B34: Nasipi, zasipi, plato gradbišča | K34: =+J34*I34 -> 0
B35: - gostota in vlažnost (z izotopsko sondo) | D35: TSC 06.711 | E35: DA | F35: m3 | G35: 1250 | H35: - | I35: 5 | K35: =+J35*I35 -> 0
B36: - dinamični deformacijski modul - Evd | D36: TSC 06.720 | E36: DA | F36: m3 | G36: 1250 | H36: - | I36: 10 | K36: =+J36*I36 -> 0
B37: - statični deformacijski modul - Ev2 | D37: TSC 06.720 | E37: DA | F37: m3 | G37: 1250 | H37: - | I37: 5 | K37: =+J37*I37 -> 0
B38: - zrnavost (kamniti materiali) | D38: SIST EN 933-1:2012 | E38: DA | F38: m3 | G38: 1250 | H38: - | I38: 3 | K38: =+J38*I38 -> 0
B39: - Proctorjev preskus | D39: SIST EN 13286-2:2010/AC:2013 | E39: DA | F39: m3 | G39: 1250 | H39: - | I39: 1 | K39: =+J39*I39 -> 0
B40: - vlažnost (zemljine) | D40: SIST EN ISO 17892-1:2015 in SIST EN 1097-5:2008 | E40: DA | F40: m3 | G40: 1250 | H40: - | I40: 3 | K40: =+J40*I40 -> 0
B41: - delež humoznih primesi | D41: SIST EN 1744-1:2010+A1:2013, T15.1 | E41: DA | F41: m3 | G41: 1250 | H41: - | I41: 3 | K41: =+J41*I41 -> 0
B42: - konsistenčne meje vezljivih zemljin | D42: SIST EN ISO 17892-12:2018 | E42: DA | F42: m3 | G42: 1250 | H42: - | I42: 0 | K42: =+J42*I42 -> 0
A43: 2.2.4 | B43: Vmesna poročila z vrednotenjem NKK | D43: po projektnih zahtevah in PTP | E43: - | F43: kos | G43: 2 | H43: 1/sklop | I43: 2 | K43: =+J43*I43 -> 0
A44: 2.2.5 | B44: Končno poročilo za zemljska dela za objekt z vrednotenjem NKK | D44: po projektnih zahtevah in PTP | E44: - | F44: kos | G44: 1 | H44: 1/sklop | I44: 1 | K44: =+J44*I44 -> 0
F45: SKUPAJ: | G45: =+A18 -> 2.2 ZEMELJSKA DELA IN TEMELJENJE | K45: =SUM(K21:K44) -> 0
A47: 2.3 ARMATURNA JEKLA
A49: Zap. štev. | B49: Predmet kontrole | C49: Vrsta preiskav | D49: Metoda preiskave | E49: Akreditacija DA/NE | F49: Obseg del | H49: Zunanja kontrola | J49: Vrednost (EUR)
...

Sheet 3_TEHNOLOŠKI OBJEKT
A1: IZGRADNJA ODLAGALIŠČA NIZKO- IN SREDNJERADIOAKTIVNIH ODPADKOV (NSRAO) VRBINA, KRŠKO
A2: Program dela Zunanje kontrole kvalitete (ZKK)
A5: 3 | B5: TEHNOLOŠKI OBJEKT IN BAZEN TEHNOLOŠKE VODE
A8: 3.1 PREGLED TEHNOLOŠKIH ELABORATOV IN PODAJA MNENJ
A10: Zap. štev. | B10: Predmet kontrole | C10: Vrsta preiskav | D10: Metoda preiskave | E10: Akreditacija DA/NE | F10: Obseg del | H10: Zunanja kontrola | J10: Vrednost (EUR)
F11: enota mere | G11: količina | H11: na enoto | I11: število | J11: C/E v EUR | K11: skupaj
A12: 3.1.1. | B12: Tehnološki elaborati za zemeljska dela in stabilizacijo temeljnih tal | D12: po projektnih zahtevah in PTP | E12: - | F12: kom | G12: 1 | H12: 1/kom | I12: 1 | K12: =+I12*J12 -> 0
A13: 3.1.2. | B13: Tehnološki elaborati betonerskih del, opaži armatura | D13: po projektnih zahtevah in PTP | E13: - | F13: kom | G13: 1 | H13: 1/kom | I13: 1 | K13: =+I13*J13 -> 0
A14: 3.1.3. | B14: Tehnološki elaborat za vidne betone s poskusnimi polji | D14: po projektnih zahtevah in PTP | E14: - | F14: kom | G14: 1 | H14: 1/kom | I14: 1 | K14: =+I14*J14 -> 0
A15: 3.1.4. | B15: Tehnološki elaborat obrtniških del | D15: po projektnih zahtevah in PTP | E15: - | F15: kom | G15: 1 | H15: 1/kom | I15: 1 | K15: =+I15*J15 -> 0
F16: SKUPAJ: | G16: =+A8 -> 3.1 PREGLED TEHNOLOŠKIH ELABORATOV IN PODAJA MNENJ | K16: =SUM(K12:K13) -> 0
A18: 3.2 ZEMELJSKA DELA IN TEMELJENJE
A20: 3.2.1. | B20: Temeljna tla
B21: Pregledi temeljnih tal in brežin (ogledi terena in temeljnih tal, kontrola pri vgrajevanju, pregledi tal pod temelji objektov (plitvo) | D21: po projektnih zahtevah, PTP, Evrokod 7 | E21: - | F21: št.objektov | G21: - | H21: 2-3/obj. | I21: 5 | K21: =+I21*J21 -> 0
A22: 3.2.2. | B22: Temeljna tla mehansko utrjena-TTMU | K22: =+I22*J22 -> 0
B23: - gostota in vlažnost (z izotopsko sondo) | D23: TSC 06.711 | E23: DA | F23: m2 | G23: 3400 | H23: 200 | I23: =+G23/H23 -> 17 | K23: =+I23*J23 -> 0
B24: - dinamični deformacijski modul - Evd | D24: TSC 06.720 | E24: DA | F24: m2 | G24: 3400 | H24: 400 | I24: 10 | K24: =+I24*J24 -> 0
B25: - statični deformacijski modul - Ev2 | D25: TSC 06.720 | E25: DA | F25: m2 | G25: 3400 | H25: 2000 | I25: 5 | K25: =+I25*J25 -> 0
B26: - zrnavost (kamniti materiali) | D26: SIST EN 933-1:2012 | E26: DA | F26: m2 | G26: 3400 | H26: 10000 | I26: 3 | K26: =+I26*J26 -> 0
B27: - Proctorjev preskus | D27: SIST EN 13286-2:2010/AC:2013 | E27: DA | F27: m2 | G27: 3400 | H27: 10000 | I27: 3 | K27: =+I27*J27 -> 0
B28: - vlažnost (zemljine) | D28: SIST EN ISO 17892-1:2015 in SIST EN 1097-5:2008 | E28: DA | F28: m2 | G28: 3400 | H28: 10000 | I28: 3 | K28: =+I28*J28 -> 0
B29: - delež humoznih primesi | D29: SIST EN 1744-1:2010+A1:2013, T15.1 | E29: DA | F29: m2 | G29: 3400 | H29: 10000 | I29: 3 | K29: =+I29*J29 -> 0
B30: - konsistenčne meje vezljivih zemljin | D30: SIST EN ISO 17892-12:2018 | E30: DA | F30: m2 | G30: 3400 | H30: 10000 | I30: 2 | K30: =+I30*J30 -> 0
A31: 3.2.3. | B31: Drenažne in filtrske plasti, nasipi, zasipi, klini, posteljica in tampon | K31: =+I31*J31 -> 0
B32: Kontrola vgrajevanja | K32: =+I32*J32 -> 0
B33: - kontrola izvajanja vgradnje, materialov in debeline plasti | D33: po projektnih zahtevah, PTP | E33: NE | F33: m3 | G33: 1250 | H33: - | I33: 10 | K33: =+I33*J33 -> 0
B34: Nasipi, zasipi, plato gradbišča | K34: =+I34*J34 -> 0
B35: - gostota in vlažnost (z izotopsko sondo) | D35: TSC 06.711 | E35: DA | F35: m3 | G35: 1250 | H35: - | I35: 5 | K35: =+I35*J35 -> 0
B36: - dinamični deformacijski modul - Evd | D36: TSC 06.720 | E36: DA | F36: m3 | G36: 1250 | H36: - | I36: 10 | K36: =+I36*J36 -> 0
B37: - statični deformacijski modul - Ev2 | D37: TSC 06.720 | E37: DA | F37: m3 | G37: 1250 | H37: - | I37: 5 | K37: =+I37*J37 -> 0
B38: - zrnavost (kamniti materiali) | D38: SIST EN 933-1:2012 | E38: DA | F38: m3 | G38: 1250 | H38: - | I38: 3 | K38: =+I38*J38 -> 0
B39: - Proctorjev preskus | D39: SIST EN 13286-2:2010/AC:2013 | E39: DA | F39: m3 | G39: 1250 | H39: - | I39: 1 | K39: =+I39*J39 -> 0
B40: - vlažnost (zemljine) | D40: SIST EN ISO 17892-1:2015 in SIST EN 1097-5:2008 | E40: DA | F40: m3 | G40: 1250 | H40: - | I40: 3 | K40: =+I40*J40 -> 0
B41: - delež humoznih primesi | D41: SIST EN 1744-1:2010+A1:2013, T15.1 | E41: DA | F41: m3 | G41: 1250 | H41: - | I41: 3 | K41: =+I41*J41 -> 0
B42: - konsistenčne meje vezljivih zemljin | D42: SIST EN ISO 17892-12:2018 | E42: DA | F42: m3 | G42: 1250 | H42: - | I42: 0 | K42: =+I42*J42 -> 0
A43: 3.2.4 | B43: Vmesna poročila z vrednotenjem NKK | D43: po projektnih zahtevah in PTP | E43: - | F43: kos | G43: 2 | H43: 1/sklop | I43: 2 | K43: =+I43*J43 -> 0
A44: 3.2.5. | B44: Končno poročilo za zemljska dela za objekt z vrednotenjem NKK | D44: po projektnih zahtevah in PTP | E44: - | F44: kos | G44: 1 | H44: 1/sklop | I44: 1 | K44: =+I44*J44 -> 0
F45: SKUPAJ: | G45: =+A18 -> 3.2 ZEMELJSKA DELA IN TEMELJENJE | K45: =SUM(K21:K44) -> 0
A47: 3.3 ARMATURNA JEKLA
A49: Zap. štev. | B49: Predmet kontrole | C49: Vrsta preiskav | D49: Metoda preiskave | E49: Akreditacija DA/NE | F49: Obseg del | H49: Zunanja kontrola | J49: Vrednost (EUR)
...

Sheet 4_SILOS
A1: IZGRADNJA ODLAGALIŠČA NIZKO- IN SREDNJERADIOAKTIVNIH ODPADKOV (NSRAO) VRBINA, KRŠKO
A2: Program dela Zunanje kontrole kvalitete (ZKK)
A5: 4 | B5: SILOS
A8: 4.1 PREGLED TEHNOLOŠKIH ELABORATOV IN PODAJA MNENJ
A10: Zap. štev. | B10: Predmet kontrole | C10: Vrsta preiskav | D10: Metoda preiskave | E10: Akreditacija DA/NE | F10: Obseg del | H10: Zunanja kontrola | J10: Vrednost (EUR)
F11: enota mere | G11: količina | H11: na enoto | I11: število | J11: C/E v EUR | K11: SKUPAJ
A12: 4.1.1. | B12: Tehnološki elaborati izvedbe primarne obloge - DEBELOSTENSKA DIAFRAGMA s poskusnim poljem | D12: po projektnih zahtevah in PTP | E12: - | F12: kom | G12: 1 | H12: 1/kom | I12: 1 | K12: =+J12*I12 -> 0
A13: 4.1.2. | B13: Tehnološki elaborati izvedbe zemeljskih del, izkopi, zasipi, črpanje vode, izenačitev pornih tlakov, priprava podloge za polaganje PVC membrane | D13: po projektnih zahtevah in PTP | E13: - | F13: kom | G13: 1 | H13: 1/kom | I13: 1 | K13: =+J13*I13 -> 0
A14: 4.1.3. | B14: Tehnološki elaborati izvedbe PVC membrane, tesnilni trakovi | D14: po projektnih zahtevah in PTP | E14: - | F14: kom | G14: 1 | H14: 1/kom | I14: 1 | K14: =+J14*I14 -> 0
A15: 4.1.4. | B15: Tehnološki elaborat izvedbe sekundarne obloge silosa, drenaže, betoni, opaži, armatura, stopnišče | D15: po projektnih zahtevah in PTP | E15: - | F15: kom | G15: 1 | H15: 1/kom | I15: 1 | K15: =+J15*I15 -> 0
A16: 4.1.5. | B16: Tehnološki elaborat obrtniških del | D16: po projektnih zahtevah in PTP | E16: - | F16: kom | G16: 1 | H16: 1/kom | I16: 1 | K16: =+J16*I16 -> 0
F17: SKUPAJ: | G17: =+A8 -> 4.1 PREGLED TEHNOLOŠKIH ELABORATOV IN PODAJA MNENJ | K17: =SUM(K12:K16) -> 0
A19: 4.2 ZEMELJSKA DELA IN TEMELJENJE
A21: 4.2.1 | B21: Temeljna tla
B22: Pregledi temeljnih tal in izkopov, geomehanska spremljava izkopov | D22: po projektnih zahtevah, PTP, Evrokod 7 | E22: - | F22: dni izkopov | G22: 210 | H22: 1/14 dni | I22: 15 | K22: =+J22*I22 -> 0
A23: 4.2.2 | B23: Temeljna tla mehansko utrjena-TTMU | K23: =+J23*I23 -> 0
B24: - gostota in vlažnost (z izotopsko sondo) | D24: TSC 06.711 | E24: DA | F24: m2 | G24: 7350 | H24: 200 | I24: 40 | K24: =+J24*I24 -> 0
B25: - dinamični deformacijski modul - Evd | D25: TSC 06.720 | E25: DA | F25: m2 | G25: 7350 | H25: 400 | I25: 20 | K25: =+J25*I25 -> 0
B26: - statični deformacijski modul - Ev2 | D26: TSC 06.720 | E26: DA | F26: m2 | G26: 7350 | H26: 2000 | I26: 4 | K26: =+J26*I26 -> 0
B27: - zrnavost (kamniti materiali) | D27: SIST EN 933-1:2012 | E27: DA | F27: m2 | G27: 7350 | H27: 10000 | I27: 4 | K27: =+J27*I27 -> 0
B28: - Proctorjev preskus | D28: SIST EN 13286-2:2010/AC:2013 | E28: DA | F28: m2 | G28: 7350 | H28: 10000 | I28: 4 | K28: =+J28*I28 -> 0
B29: - vlažnost (zemljine) | D29: SIST EN ISO 17892-1:2015 in SIST EN 1097-5:2008 | E29: DA | F29: m2 | G29: 7350 | H29: 10000 | I29: 4 | K29: =+J29*I29 -> 0
B30: - delež humoznih primesi | D30: SIST EN 1744-1:2010+A1:2013, T15.1 | E30: DA | F30: m2 | G30: 7350 | H30: 10000 | I30: 4 | K30: =+J30*I30 -> 0
B31: - konsistenčne meje vezljivih zemljin | D31: SIST EN ISO 17892-12:2018 | E31: DA | F31: m2 | G31: 7350 | H31: 10000 | I31: 2 | K31: =+J31*I31 -> 0
B32: - preiskava grobozrnatega materiala v veliki strižni celici | D32: BS 1377 | E32: NE | I32: 1 | K32: =+J32*I32 -> 0
A33: 4.2.3. | B33: Drenažne in filtrske plasti, nasipi, zasipi, klini, posteljica in tampon | K33: =+J33*I33 -> 0
B34: Kontrola vgrajevanja | K34: =+J34*I34 -> 0
B35: - kontrola izvajanja,vgradnje, materialov in debeline plasti | D35: po projektnih zahtevah, PTP | E35: NE | F35: m3 | G35: 12000 | H35: 1500 | I35: 5 | K35: =+J35*I35 -> 0
B36: Nasipi, zasipi, plato gradbišča | K36: =+J36*I36 -> 0
B37: - gostota in vlažnost (z izotopsko sondo) | D37: TSC 06.711 | E37: DA | F37: m3 | G37: 12000 | H37: 2000 | I37: 6 | K37: =+J37*I37 -> 0
B38: - dinamični deformacijski modul - Evd | D38: TSC 06.720 | E38: DA | F38: m3 | G38: 12000 | H38: 2000 | I38: 6 | K38: =+J38*I38 -> 0
B39: - statični deformacijski modul - Ev2 | D39: TSC 06.720 | E39: DA | F39: m3 | G39: 12000 | H39: 2000 | I39: 6 | K39: =+J39*I39 -> 0
B40: - zrnavost (kamniti materiali) | D40: SIST EN 933-1:2012 | E40: DA | F40: m3 | G40: 12000 | H40: 6000 | I40: 3 | K40: =+J40*I40 -> 0
B41: - Proctorjev preskus | D41: SIST EN 13286-2:2010/AC:2013 | E41: DA | F41: m3 | G41: 12000 | H41: 6000 | I41: 3 | K41: =+J41*I41 -> 0
B42: - vlažnost (zemljine) | D42: SIST EN ISO 17892-1:2015 in SIST EN 1097-5:2008 | E42: DA | F42: m3 | G42: 12000 | H42: 6000 | I42: 3 | K42: =+J42*I42 -> 0
B43: - delež humoznih primesi | D43: SIST EN 1744-1:2010+A1:2013, T15.1 | E43: DA | F43: m3 | G43: 12000 | H43: 6000 | I43: 3 | K43: =+J43*I43 -> 0
B44: - konsistenčne meje vezljivih zemljin | D44: SIST EN ISO 17892-12:2018 | E44: DA | F44: m3 | G44: 12000 | H44: 10000 | I44: 1 | K44: =+J44*I44 -> 0
A45: 4.2.4. | B45: Vmesna in končna poročila z vrednotenjem NKK | D45: po projektnih zahtevah in PTP | E45: - | F45: kom | G45: 1 | H45: 1/objekt | I45: 3 | K45: =+J45*I45 -> 0
A46: 4.2.5 | B46: Končno poročilo za zemljska dela za objekt z vrednotenjem NKK | D46: po projektnih zahtevah in PTP | E46: - | F46: kom | G46: 1 | H46: 1/objekt | I46: 1 | K46: =+J46*I46 -> 0
F47: SKUPAJ: | G47: =+A19 -> 4.2 ZEMELJSKA DELA IN TEMELJENJE | K47: =SUM(K22:K46) -> 0
...

Sheet 5_HALA NAD SILOSOM
A1: IZGRADNJA ODLAGALIŠČA NIZKO- IN SREDNJERADIOAKTIVNIH ODPADKOV (NSRAO) VRBINA, KRŠKO
A2: Program dela Zunanje kontrole kvalitete (ZKK)
A5: 5 | B5: HALA NAD SILOSOM
A8: 5.1 PREGLED TEHNOLOŠKIH ELABORATOV
A10: Zap. štev. | B10: Predmet kontrole | C10: Vrsta preiskav | D10: Metoda preiskave | E10: Akreditacija DA/NE | F10: Obseg del | H10: Zunanja kontrola | J10: Vrednost (EUR)
F11: enota mere | G11: količina | H11: na enoto | I11: število | J11: C/E v EUR | K11: skupaj
A12: 5.1.1. | B12: Tehnološki elaborati za zemeljska dela in stabilizacijo temeljnih tal | D12: po projektnih zahtevah in PTP | E12: - | F12: kom | G12: 1 | H12: 1/kom | I12: 1 | K12: =+I12*J12 -> 0
A13: 5.1.2. | B13: Tehnološki elaborati betonerskih del, opaži, armatura | D13: po projektnih zahtevah in PTP | E13: - | F13: kom | G13: 1 | H13: 1/kom | I13: 1 | K13: =+I13*J13 -> 0
A14: 5.1.3. | B14: Tehnološki elaborat obrtniških del | D14: po projektnih zahtevah in PTP | E14: - | F14: kom | G14: 1 | H14: 1/kom | I14: 1 | K14: =+I14*J14 -> 0
F15: SKUPAJ: | G15: =+A8 -> 5.1 PREGLED TEHNOLOŠKIH ELABORATOV | K15: =SUM(K12:K13) -> 0
A18: 5.2 ZEMELJSKA DELA IN TEMELJENJE:
A20: 5.2.1 | B20: Temeljna tla
B21: Pregledi temeljnih tal in brežin (ogledi terena in temeljnih tal, kontrola pri vgrajevanju, pregledi tal pod temelji objektov (plitvo) | D21: po projektnih zahtevah, PTP, Evrokod 7 | E21: - | F21: št.objektov | G21: - | H21: 2-3/obj. | I21: 20 | K21: =+I21*J21 -> 0
A22: 5.2.2 | B22: Temeljna tla mehansko utrjena-TTMU | K22: =+I22*J22 -> 0
B23: - gostota in vlažnost (z izotopsko sondo) | D23: TSC 06.711 | E23: DA | F23: m2 | G23: 7350 | H23: 200 | I23: 40 | K23: =+I23*J23 -> 0
B24: - dinamični deformacijski modul - Evd | D24: TSC 06.720 | E24: DA | F24: m2 | G24: 7350 | H24: 400 | I24: 20 | K24: =+I24*J24 -> 0
B25: - statični deformacijski modul - Ev2 | D25: TSC 06.720 | E25: DA | F25: m2 | G25: 7350 | H25: 2000 | I25: 4 | K25: =+I25*J25 -> 0
B26: - zrnavost (kamniti materiali) | D26: SIST EN 933-1:2012 | E26: DA | F26: m2 | G26: 7350 | H26: 10000 | I26: 4 | K26: =+I26*J26 -> 0
B27: - Proctorjev preskus | D27: SIST EN 13286-2:2010/AC:2013 | E27: DA | F27: m2 | G27: 7350 | H27: 10000 | I27: 4 | K27: =+I27*J27 -> 0
B28: - vlažnost (zemljine) | D28: SIST EN ISO 17892-1:2015 in SIST EN 1097-5:2008 | E28: DA | F28: m2 | G28: 7350 | H28: 10000 | I28: 4 | K28: =+I28*J28 -> 0
B29: - delež humoznih primesi | D29: SIST EN 1744-1:2010+A1:2013, T15.1 | E29: DA | F29: m2 | G29: 7350 | H29: 10000 | I29: 4 | K29: =+I29*J29 -> 0
B30: - konsistenčne meje vezljivih zemljin | D30: SIST EN ISO 17892-12:2018 | E30: DA | F30: m2 | G30: 7350 | H30: 10000 | I30: 2 | K30: =+I30*J30 -> 0
A31: 5.2.3. | B31: Vmesno poročilo z vrednotenjem rezulatov NKK | D31: po projektnih zahtevah in PTP | E31: - | F31: št. | H31: 1/sklop | I31: 2 | K31: =+I31*J31 -> 0
A32: 5.2.4 | B32: Končno poročilo za zemljska dela za objekt z vrednotenjem NKK | D32: po projektnih zahtevah in PTP | E32: - | F32: kom | G32: 1 | H32: 1/objekt | I32: 1 | K32: =+I32*J32 -> 0
F33: SKUPAJ: | G33: =+A18 -> 5.2 ZEMELJSKA DELA IN TEMELJENJE: | K33: =SUM(K21:K32) -> 0
A35: 5.3 ARMATURNA JEKLA
A37: Zap. štev. | B37: Predmet kontrole | C37: Vrsta preiskav | D37: Metoda preiskave | E37: Akreditacija DA/NE | F37: Obseg del | H37: Zunanja kontrola | J37: Vrednost (EUR)
F38: enota mere | G38: količina | H38: na enoto | I38: število | J38: C/E v EUR | K38: skupaj
A39: 5.3.1 | B39: Armaturna jekla
B40: Armaturne palice (Rm, Re, Rm/Re, Agt, upogib, dimenzijska kontrola, geometrijska kontrola, kemijska analiza) | D40: SIST EN ISO 15630-1:2011 | E40: DA | F40: kg | G40: 213800 | I40: 4 | K40: =+I40*J40 -> 0
B41: Armaturne mreže (Rm, Re, Agt, upogib, dimenzijska kontrola, geometrijska kontrola) | D41: SIST EN ISO 15630-2:2011 | E41: DA | F41: kg | I41: 1 | K41: =+I41*J41 -> 0
A42: 5.3.2 | B42: Vmesna poročila o izvedenih pregledih | D42: po projektnih zahtevah in PTP | E42: - | F42: kos | K42: =+I42*J42 -> 0
A43: 5.3.3 | B43: Končna ocena s pregledom rezultatov notranje kontrole | D43: po projektnih zahtevah in PTP | E43: - | F43: kos | I43: 1 | K43: =+I43*J43 -> 0
F44: SKUPAJ: | G44: =+A35 -> 5.3 ARMATURNA JEKLA | K44: =SUM(K40:K43) -> 0
A47: 5.4 KOVINSKE KONSTRUKCIJE
A49: Zap. štev. | B49: Predmet kontrole | C49: Vrsta preiskav | D49: Metoda preiskave | E49: Akreditacija DA/NE | F49: Obseg del | H49: Zunanja kontrola | J49: Vrednost (EUR)
F50: enota mere | G50: količina | H50: na enoto | I50: število | J50: C/E v EUR | K50: skupaj
A51: 5.4.1 | B51: Kovinske konstrukcije
B52: skladnost izvedbe s projektom | E52: NE | F52: kg | G52: 354720 | I52: 5 | K52: =+I52*J52 -> 0
B53: preskusi materialov | I53: 5 | K53: =+I53*J53 -> 0
...

Sheet 6_INFRASTRUKTURNE URED._zun.u
A1: IZGRADNJA ODLAGALIŠČA NIZKO- IN SREDNJERADIOAKTIVNIH ODPADKOV (NSRAO) VRBINA, KRŠKO
A2: Program dela Zunanje kontrole kvalitete (ZKK)
A5: 6 | B5: INFRASTRUKTURNA IN ZUNANJA UREDITEV
A8: 6.1 PREGLED TEHNOLOŠKIH ELABORATOV
A10: Zap. štev. | B10: Predmet kontrole | C10: Vrsta preiskav | D10: Metoda preiskave | E10: Akreditacija DA/NE | F10: Obseg del | H10: Zunanja kontrola | J10: Vrednost (EUR)
F11: enota mere | G11: količina | H11: na enoto | I11: število | J11: C/E v EUR | K11: skupaj
A12: 6.1 | B12: Pregled tehnoloških elaboratov z izdelavo poročil:
B13: - izkopi, nasipi, brežine | D13: po projektnih zahtevah in PTP | E13: - | F13: kos | G13: 1 | H13: 1/kos | I13: 1 | K13: =+I13*J13 -> 0
B14: - mehanske lastnosti asfaltnih zmesi | D14: izjava o lastnostih | F14: kos | G14: 1 | I14: 1 | K14: =+I14*J14 -> 0
B15: - ceste, kanalizacija in voziščne konstrukcije | D15: po projektnih zahtevah in PTP | E15: - | F15: kos | G15: 1 | H15: 1/kos | I15: 1 | K15: =+I15*J15 -> 0
F16: SKUPAJ: | G16: =+A8 -> 6.1 PREGLED TEHNOLOŠKIH ELABORATOV | K16: =SUM(K12:K15) -> 0
A19: 6.2 ZEMELJSKA DELA IN TEMELJENJE:
A21: 6.2.1 | B21: Temeljna tla
B22: Pregledi temeljnih tal in brežin (ogledi terena in temeljnih tal, kontrola pri vgrajevanju, pregledi tal pod temelji objektov (plitvo) | D22: po projektnih zahtevah, PTP, Evrokod 7 | E22: - | F22: št.objektov | G22: - | H22: 2-3/obj. | I22: 15 | K22: =+I22*J22 -> 0
A23: 6.2.2 | B23: Temeljna tla mehansko utrjena-TTMU | K23: =+I23*J23 -> 0
B24: - gostota in vlažnost (z izotopsko sondo) | D24: TSC 06.711 | E24: DA | F24: m2 | G24: 23100 | H24: 200 | I24: 80 | K24: =+I24*J24 -> 0
B25: - dinamični deformacijski modul - Evd | D25: TSC 06.720 | E25: DA | F25: m2 | G25: 23100 | H25: 400 | I25: 60 | K25: =+I25*J25 -> 0
B26: - statični deformacijski modul - Ev2 | D26: TSC 06.720 | E26: DA | F26: m2 | G26: 23100 | H26: 2000 | I26: 20 | K26: =+I26*J26 -> 0
B27: - zrnavost (kamniti materiali) | D27: SIST EN 933-1:2012 | E27: DA | F27: m2 | G27: 23100 | H27: 10000 | I27: 10 | K27: =+I27*J27 -> 0
B28: - Proctorjev preskus | D28: SIST EN 13286-2:2010/AC:2013 | E28: DA | F28: m2 | G28: 23100 | H28: 10000 | I28: 5 | K28: =+I28*J28 -> 0
B29: - vlažnost (zemljine) | D29: SIST EN ISO 17892-1:2015 in SIST EN 1097-5:2008 | E29: DA | F29: m2 | G29: 23100 | H29: 10000 | I29: 10 | K29: =+I29*J29 -> 0
B30: - delež humoznih primesi | D30: SIST EN 1744-1:2010+A1:2013, T15.1 | E30: DA | F30: m2 | G30: 23100 | H30: 10000 | I30: 5 | K30: =+I30*J30 -> 0
B31: - konsistenčne meje vezljivih zemljin | D31: SIST EN ISO 17892-12:2018 | E31: DA | F31: m2 | G31: 23100 | H31: 10000 | I31: 3 | K31: =+I31*J31 -> 0
A32: 6.2.3 | B32: Drenažne in filtrske plasti, nasipi, zasipi, klini, posteljica in tampon
B33: Kontrola vgrajevanja
B34: - kontrola izvajanja CCC, vgradnje, materialov in debeline plasti | D34: po projektnih zahtevah, PTP | E34: NE | F34: m3 | G34: 7600 | H34: 400 | I34: 20 | K34: =+I34*J34 -> 0
B35: Nasipi, zasipi, kanalizacija, plato gradbišča
B36: - gostota in vlažnost (z izotopsko sondo) | D36: TSC 06.711 | E36: DA | F36: m3 | G36: 7600 | H36: 400 | I36: 20 | K36: =+I36*J36 -> 0
B37: - dinamični deformacijski modul - Evd | D37: TSC 06.720 | E37: DA | F37: m3 | G37: 7600 | H37: 400 | I37: 20 | K37: =+I37*J37 -> 0
B38: - statični deformacijski modul - Ev2 | D38: TSC 06.720 | E38: DA | F38: m3 | G38: 7600 | H38: 800 | I38: 10 | K38: =+I38*J38 -> 0
B39: - zrnavost (kamniti materiali) | D39: SIST EN 933-1:2012 | E39: DA | F39: m3 | G39: 7600 | H39: 1500 | I39: 5 | K39: =+I39*J39 -> 0
B40: - Proctorjev preskus | D40: SIST EN 13286-2:2010/AC:2013 | E40: DA | F40: m3 | G40: 7600 | H40: 1500 | I40: 5 | K40: =+I40*J40 -> 0
B41: - vlažnost (zemljine) | D41: SIST EN ISO 17892-1:2015 in SIST EN 1097-5:2008 | E41: DA | F41: m3 | G41: 7600 | H41: 1500 | I41: 5 | K41: =+I41*J41 -> 0
B42: - delež humoznih primesi | D42: SIST EN 1744-1:2010+A1:2013, T15.1 | E42: DA | F42: m3 | G42: 7600 | H42: 1500 | I42: 5 | K42: =+I42*J42 -> 0
B43: - konsistenčne meje vezljivih zemljin | D43: SIST EN ISO 17892-12:2018 | E43: DA | F43: m3 | G43: 7600 | H43: 5000 | I43: 2 | K43: =+I43*J43 -> 0
A44: 6.2.4 | B44: Kamnita posteljica (PO; TSC 06.100:2003)
B45: - gostota in vlažnost (z izotopsko sondo) | D45: TSC 06.711 | E45: DA | F45: m3 | G45: 7350 | H45: 400 | I45: 20 | K45: =+I45*J45 -> 0
B46: - dinamični deformacijski modul - Evd | D46: TSC 06.720 | E46: DA | F46: m3 | G46: 7350 | H46: 400 | I46: 20 | K46: =+I46*J46 -> 0
B47: - statični deformacijski modul - Ev2 | D47: TSC 06.720 | E47: DA | F47: m3 | G47: 7350 | H47: 1500 | I47: 5 | K47: =+I47*J47 -> 0
B48: - zrnavost (kamniti materiali) | D48: SIST EN 933-1:2012 | E48: DA | F48: m3 | G48: 7350 | H48: 1500 | I48: 3 | K48: =+I48*J48 -> 0
...

Sheet 7_PORTALNO DVIGALO
A1: IZGRADNJA ODLAGALIŠČA NIZKO- IN SREDNJERADIOAKTIVNIH ODPADKOV (NSRAO) VRBINA, KRŠKO
A2: Program dela Zunanje kontrole kvalitete (ZKK)
A5: 7 | B5: PORTALNO DVIGALO
A8: 7.1 PREGLED TEHNOLOŠKIH ELABORATOV elektro in strojna stroka
A10: Zap. štev. | B10: Predmet kontrole | C10: Vrsta preiskav | D10: Metoda preiskave | E10: Akreditacija DA/NE | F10: Obseg del | H10: Zunanja kontrola | J10: Vrednost (EUR)
F11: enota mere | G11: količina | H11: na enoto | I11: število | J11: C/E v EUR | K11: skupaj
A12: 7.1.1 | B12: Pregled tehnoloških elaboratov z izdelavo poročil:
B13: - pregled izvedbene projektne dokumentacije in delavniških načrtov z oceno doseganja projektno predvidenih parametrov in izdelavo poročila o pregledu | D13: po projektnih zahtevah in PTP | E13: - | F13: kpl | G13: 2 | K13: =G13*J13 -> 0
F14: SKUPAJ: | G14: =+A8 -> 7.1 PREGLED TEHNOLOŠKIH ELABORATOV elektro in strojna stroka | K14: =SUM(K12:K13) -> 0
A17: 7.2 KONTROLA KVALITETE PROIZVODNJE
A19: 7.2.1. | B19: Proizvodnja portalnega dvigala, elektro stroka ( E ) - na lokaciji dobavitelja
A20: 7.2.1.1. | B20: - pregled zasnove sistemov vodenja in obratovanja dvigala | D20: po projektnih zahtevah, PTP, | E20: - | F20: kpl | G20: 1 | K20: =J20*G20 -> 0
A21: 7.2.1.2. | B21: - pregled in sodelovanje na kontrolnih prevzemih posameznih sklopov dvigala in opreme dvigala, | D21: po projektnih zahtevah, PTP, | F21: kpl | G21: 5 | K21: =J21*G21 -> 0
A22: 7.2.1.3 | B22: - spremljava funkcionalnih preskusov v tovarnah za ločene komponente | D22: po projektnih zahtevah, PTP, | F22: kpl | G22: 5 | K22: =J22*G22 -> 0
A23: 7.2.2. | B23: Proizvodnja portalnega dvigala, strojna stroka ( S ) - na lokaciji dobavitelja
A24: 7.2.2.1 | B24: - kontrola dobave osnovnih materialov in komponent ter po potrebi izvedba naključnih porušnih preiskav na lokaciji proizvodnje dvigala med izvedbo (porušne preiskav na dveh vzorcih osnovnega materiala (kemijsko analizo, žilavost, natezni preskus) - potrditev kvalitete osnovnih materialov), | D24: po projektnih zahtevah, PTP, | F24: kpl | G24: 2 | K24: =J24*G24 -> 0
A25: 7.2.2.2 | B25: - kontrola izdelave nosilne konstrukcije z nadzorom varilskih del ter izvedba naključnih neporušnih kontrol na lokaciji proizvodnje dvigala med izvedbo (neporušno kontrolo zvarnih spojev (1 obisk RT ali UT kontrole) – kontrola v proizvodnji dobavitelja, | D25: po projektnih zahtevah, PTP, | F25: kpl | G25: 2 | K25: =J25*G25 -> 0
A26: 7.2.2.3 | B26: - potrditev kvalitete zvarnih spojev, | D26: po projektnih zahtevah, PTP, | F26: kpl | G26: 5 | K26: =J26*G26 -> 0
A27: 7.2.2.4 | B27: - kontrola montaže pogonov, | D27: po projektnih zahtevah, PTP, | F27: kpl | G27: 1 | K27: =J27*G27 -> 0
A28: 7.2.2.5 | B28: - spremljanje funkcionalnih preskusov v tovarni, | D28: po projektnih zahtevah, PTP, | F28: kpl | G28: 1 | K28: =J28*G28 -> 0
F29: SKUPAJ: | G29: 7.2. Kontrola kvalitet proizvodnje | K29: =SUM(K20:K28) -> 0
A31: 7.3 KONTROLA KVALITETE MONTAŽE
A33: 7.3.1. | B33: Montaža portalnega dvigala ( E in S stroka)
A34: 7.3.1.1. | B34: - kontrola in spremljava montaže na lokaciji | D34: po projektnih zahtevah, PTP, | F34: obisk | G34: 15 | K34: =G34*J34 -> 0
A35: 7.3.1.2 | B35: - sodelovanej pri vmesnih prevzemih opreme in komponent | D35: po projektnih zahtevah, PTP, | F35: obisk | G35: 5 | K35: =G35*J35 -> 0
A36: 7.3.1.3 | B36: - sodelovanje in kontrola končnih preizkusov na objektu vključno z bremenskimi testi | D36: po projektnih zahtevah, PTP, | F36: obisk | G36: 6 | K36: =G36*J36 -> 0
A38: 7.3.2. | B38: Vmesno poročilo z vrednotenjem rezulatov NKK | F38: kpl | G38: 4 | K38: =G38*J38 -> 0
A39: 7.3.3. | B39: Končno poročilo za zemljska dela za objekt z vrednotenjem NKK | F39: kpl | G39: 1 | K39: =G39*J39 -> 0
F40: SKUPAJ: | G40: 7.3. Kontrola kvalitete montaže | K40: =SUM(K34:K39) -> 0

Sheet 8_Geodetska dela
A1: IZGRADNJA ODLAGALIŠČA NIZKO- IN SREDNJERADIOAKTIVNIH ODPADKOV (NSRAO) VRBINA, KRŠKO
A2: Program dela Zunanje kontrole kvalitete (ZKK)
A5: 8. | B5: GEODETSKA DELA
A7: Zap. | B7: Opis del | F7: enota | G7: Enotna | H7: Cena na | I7: Skupaj
A8: št. | G8: količina | H8: enoto v € | I8: znesek (€)
A10: 8.1 | B10: Pregled tehnoloških elaboratov geodetskih del z izdelavo poročil | F10: kpl | G10: 3 | I10: =G10*H10 -> 0
A12: 8.2 | B12: Prenos nulte višine iz nivelmanske mreže I. reda na gradbišče, stabilizacija, terenske meritve in izdelava tehničnega poročila, | F12: kpl | G12: 1 | I12: =G12*H12 -> 0
A14: 8.3 | B14: Kontrola vzpostavitve in stabilizacije osnovne geodetske mreže na gradbišču – terenska kontrola in izdelava tehničnega poročila | F14: kpl | G14: 2 | I14: =G14*H14 -> 0
A16: 8.4 | B16: Kontrolne meritve zakoličb objektov | F16: kpl | G16: 5 | I16: =G16*H16 -> 0
A18: 8.5 | B18: Kontrolne meritve izvedbe gradbenih del na odlagalnem silosu (armatura, beton opaži), | F18: kpl | G18: 20 | I18: =G18*H18 -> 0
A20: 8.6 | B20: Kontrolne meritve pri montaži proge portalnega dvigala, meritev vgradnje sidrnih poščic in meritve žerjavne proge po končani montaži | F20: kpl | G20: 2 | I20: =G20*H20 -> 0
A22: 8.7 | B22: Izvedba enotnega geodetskega posnetka končnega stanja s pripravo elaborata za vpis objektov v uradne evidence. PID podloge izvedenih del zagotovi Naročnik | F22: kpl | G22: 1 | I22: =G22*H22 -> 0
A24: 8.8 | B24: Izdelava vmesnih in končnih poročil o izvedenih kontrolnih geodetskih meritvah
B25: vmesna poročila | F25: kpl | G25: 5 | I25: =G25*H25 -> 0
B26: končno poročilo | F26: kpl | G26: 1 | I26: =G26*H26 -> 0
B27: SKUPAJ: | F27: 8. GEODETSKA DELA | I27: =SUM(I10:I26) -> 0
