Workbook

Sheet 0 REKAPITULACIJA
A1: IZGRADNJA ODLAGALIŠČA NIZKO- IN SREDNJERADIOAKTIVNIH ODPADKOV (NSRAO) VRBINA, KRŠKO
A2: Program dela Zunanje kontrole kvalitete (ZKK)
J3: PRILOGA 2
A4: POPIS DEL Z LISTO CEN
A7: 0 | B7: REKAPITULACIJA
J9: OCENJENA VREDNOST
B10: 1 | C10: SPLOŠNE AKTIVNOSTI | J10: ='1_SPLOŠNE AKTIVNOSTI'!K23 -> 0
C11: 1.1 | D11: Zemeljska, geotehnična,hidroizolacijska in asfalterska dela | J11: ='1_SPLOŠNE AKTIVNOSTI'!K10 -> 0
C12: 1.2 | D12: Betonska dela | J12: ='1_SPLOŠNE AKTIVNOSTI'!K12 -> 0
C13: 1.3 | D13: Kovinske konstrukcije in armaturno jeklo | J13: ='1_SPLOŠNE AKTIVNOSTI'!K14 -> 0
C14: 1.4 | D14: Portalno dvigalo | J14: ='1_SPLOŠNE AKTIVNOSTI'!K16 -> 0
C15: 1.5 | D15: Geodetska dela | J15: ='1_SPLOŠNE AKTIVNOSTI'!K18 -> 0
C16: 1.6 | D16: Ostalo - nepredvidena dela | J16: ='1_SPLOŠNE AKTIVNOSTI'!K20 -> 0
C17: 1.7 | D17: Končno poročilo | J17: ='1_SPLOŠNE AKTIVNOSTI'!K22 -> 0
B18: 2 | C18: UPRAVNO SERVISNI OBJEKT | J18: ='2_UPRAVNO SERVISNI OBJ.'!K113 -> 0
C19: 2.1 | D19: Pregled tehnoloških elaboratov | J19: ='2_UPRAVNO SERVISNI OBJ.'!K16 -> 0
C20: 2.2 | D20: Zemeljska dela in temeljenje | J20: ='2_UPRAVNO SERVISNI OBJ.'!K45 -> 0
C21: 2.3 | D21: Armaturna jekla | J21: ='2_UPRAVNO SERVISNI OBJ.'!K56 -> 0
C22: 2.4 | D22: Kovinske konstrukcije | J22: ='2_UPRAVNO SERVISNI OBJ.'!K69 -> 0
C23: 2.5 | D23: Hidroizolacijska dela | J23: ='2_UPRAVNO SERVISNI OBJ.'!K81 -> 0
C24: 2.6 | D24: Betonska dela | J24: ='2_UPRAVNO SERVISNI OBJ.'!K111 -> 0
B25: 3 | C25: TEHNOLOŠKI OBJEKT | J25: ='3_TEHNOLOŠKI OBJEKT'!K136 -> 0
C26: 3.1 | D26: Pregled tehnoloških elaboratov | J26: ='3_TEHNOLOŠKI OBJEKT'!K16 -> 0
C27: 3.2 | D27: Zemeljska dela in temeljenje | J27: ='3_TEHNOLOŠKI OBJEKT'!K45 -> 0
C28: 3.3 | D28: Armaturna jekla | J28: ='3_TEHNOLOŠKI OBJEKT'!K56 -> 0
C29: 3.4 | D29: Kovinske konstrukcije | J29: ='3_TEHNOLOŠKI OBJEKT'!K69 -> 0
C30: 3.5 | D30: Hidroizolacijska dela | J30: ='3_TEHNOLOŠKI OBJEKT'!K77 -> 0
C31: 3.6 | D31: Jet grouting | J31: ='3_TEHNOLOŠKI OBJEKT'!K102 -> 0
C32: 3.7 | D32: Betonska dela | J32: ='3_TEHNOLOŠKI OBJEKT'!K133 -> 0
B33: 4 | C33: SILOS | J33: ='4_SILOS'!K224 -> 0
C34: 4.1 | D34: Pregled tehnoloških elaboratov | J34: ='4_SILOS'!K17 -> 0
C35: 4.2 | D35: Zemeljska dela in temeljenje | J35: ='4_SILOS'!K47 -> 0
C36: 4.3 | D36: Armaturna jekla | J36: ='4_SILOS'!K59 -> 0
C37: 4.4 | D37: Kovinske konstrukcije | J37: ='4_SILOS'!K73 -> 0
C38: 4.5 | D38: Hidroizolacijska dela | J38: ='4_SILOS'!K86 -> 0
C39: 4.6 | D39: Geotekstil | J39: ='4_SILOS'!K104 -> 0
C40: 4.7 | D40: Kontola varovanja in zaščite gradbene jame - debelostensk diafragma | J40: ='4_SILOS'!K114 -> 0
C41: 4.8 | D41: Drenažne cevi | J41: ='4_SILOS'!K124 -> 0
C42: 4.9 | D42: Betonska dela | J42: ='4_SILOS'!K192 -> 0
C43: 4.10 | D43: Osnovni materialai za proizvodnjo betonov | J43: ='4_SILOS'!K221 -> 0
B44: 5 | C44: HALA NAD SILOSOM | J44: ='5_HALA NAD SILOSOM'!K99 -> 0
C45: 5.1 | D45: Pregled tehnoloških elaboratov | J45: ='5_HALA NAD SILOSOM'!K15 -> 0
C46: 5.2 | D46: Zemeljska dela in temeljenje | J46: ='5_HALA NAD SILOSOM'!K33 -> 0
C47: 5.3 | D47: Armaturna jekla | J47: ='5_HALA NAD SILOSOM'!K44 -> 0
C48: 5.4 | D48: Kovinske konstrukcije | J48: ='5_HALA NAD SILOSOM'!K58 -> 0
C49: 5.5 | D49: Epoksi tlak | J49: ='5_HALA NAD SILOSOM'!K65 -> 0
C50: 5.6 | D50: Betonska dela | J50: ='5_HALA NAD SILOSOM'!K95 -> 0
B51: 6 | C51: INFRASTRUKTURNE IN ZUNANJE UREDITVE | J51: ='6_INFRASTRUKTURNE URED._zun.u'!K252 -> 0
C52: 6.1 | D52: Pregled tehnoloških elaboratov | J52: ='6_INFRASTRUKTURNE URED._zun.u'!K16 -> 0
C53: 6.2 | D53: Zemeljska dela in temeljenje | J53: ='6_INFRASTRUKTURNE URED._zun.u'!K63 -> 0
C54: 6.3 | D54: Armaturna jekla | J54: ='6_INFRASTRUKTURNE URED._zun.u'!K74 -> 0
C55: 6.4 | D55: Kovinske konstrukcije | J55: ='6_INFRASTRUKTURNE URED._zun.u'!K88 -> 0
C56: 6.5 | D56: Hidroizolacijska dela | J56: ='6_INFRASTRUKTURNE URED._zun.u'!K98 -> 0
C57: 6.6 | D57: Geotekstil | J57: ='6_INFRASTRUKTURNE URED._zun.u'!K112 -> 0
C58: 6.7 | D58: Asfalterska dela | J58: ='6_INFRASTRUKTURNE URED._zun.u'!K163 -> 0
C59: 6.8 | D59: Kanalizacijske cevi | J59: ='6_INFRASTRUKTURNE URED._zun.u'!K182 -> 0
C60: 6.9 | D60: Vodovodne cevi | J60: ='6_INFRASTRUKTURNE URED._zun.u'!K195 -> 0
C61: 6.10 | D61: Cevi za telekomunikacije | J61: ='6_INFRASTRUKTURNE URED._zun.u'!K208 -> 0
C62: 6.11 | D62: Oprema cest | J62: ='6_INFRASTRUKTURNE URED._zun.u'!K222 -> 0
C63: 6.12 | D63: Betonska dela | J63: ='6_INFRASTRUKTURNE URED._zun.u'!K249 -> 0
B64: 7 | C64: PORTALNO DVIGALO | J64: =J65+J66+J67 -> 0
C65: 7.1. | D65: Pregled tehnoloških elaboratov | J65: ='7_PORTALNO DVIGALO'!K14 -> 0
C66: 7.2. | D66: Kontrola kvalitete proizvodnje | J66: ='7_PORTALNO DVIGALO'!K29 -> 0
C67: 7.3. | D67: Kontrola kvalitete montaže | J67: ='7_PORTALNO DVIGALO'!K40 -> 0
B68: 8 | C68: GEODETSKA DELA | J68: ='8_Geodetska dela'!I27 -> 0
C69: SKUPAJ: | J69: =J68+J51+J44+J33+J25+J18+J10 -> 0

Sheet 1_SPLOŠNE AKTIVNOSTI
A1: IZGRADNJA ODLAGALIŠČA NIZKO- IN SREDNJERADIOAKTIVNIH ODPADKOV (NSRAO) VRBINA, KRŠKO
A2: Program dela Zunanje kontrole kvalitete (ZKK)
A4: 1 | B4: SPLOŠNE AKTIVNOSTI
A6: Zap. štev. | B6: Vrsta preiskave | D6: Metoda preiskave | E6: Akreditacija DA/NE | F6: Obseg del | H6: Zunanja kontrola | J6: Vrednost (EUR)
F7: enota mere | G7: količina mesecev | H7: na enoto | I7: število | J7: C/E v EUR | K7: skupaj
A8: 1.0 | B8: KONZULTACIJE IN SPREMLJAVA:
A9: 1.1 | B9: ZEMELJSKA, GEOTEHNIČNA, HIDROIZOLACIJSKA IN ASFALTERSKA DELA
A10: 1.1.1. | B10: Izvedba aktivnosti v času od pričetka do zaključka del ki obsega: - prisotnost na operativnih sestankih in na gradbišču, - sodelovanje z INŽENIRJEM na gradbišču, - konzultacije in svetovanje - kontrola in pregled poročil notranje kontrole kvalitete izvajalca. | D10: po projektu in PTP | E10: - | F10: inž.dan | G10: 36 | H10: 2xinž.dan/mesec | I10: =+G10*2 -> 72 | K10: =+I10*J10 -> 0
A11: 1.2 | B11: BETONSKA DELA
A12: 1.2.1. | B12: Izvedba aktivnosti v času od pričetka do zaključka del ki obsega: - prisotnost na operativnih sestankih in na gradbišču, - sodelovanje z INŽENIRJEM na gradbišču, - konzultacije in svetovanje - kontrola in pregled poročil notranje kontrole kvalitete izvajalca. | D12: po projektu in PTP | E12: - | F12: inž.dan | G12: 36 | H12: 4xinž.dan/mesec | I12: 144 | K12: =+I12*J12 -> 0
A13: 1.3 | B13: KOVINSKE KONSTRUKCIJE IN ARMATURNO JEKLO
A14: 1.3.1. | B14: Izvedba aktivnosti v času od pričetka do zaključka del ki obsega: - prisotnost na operativnih sestankih in na gradbišču, - sodelovanje z INŽENIRJEM na gradbišču, - konzultacije in svetovanje - kontrola in pregled poročil notranje kontrole kvalitete izvajalca. | D14: po projektu in PTP | E14: - | F14: inž.dan | G14: 18 | H14: 2xinž.dan/mesec | I14: =+G14*2 -> 36 | K14: =+I14*J14 -> 0
A15: 1.4 | B15: POTRALNO DVIGALO IN PRIJEMALO
A16: 1.4.1. | B16: Izvedba aktivnosti v času od pričetka do zaključka del ki obsega: - prisotnost na operativnih sestankih in na gradbišču, - sodelovanje z INŽENIRJEM na gradbišču, - konzultacije in svetovanje - kontrola in pregled poročil notranje kontrole kvalitete izvajalca. | D16: po projektu in PTP | E16: - | F16: inž.dan | G16: 9 | H16: 2xinž.dan/mesec | I16: =+G16*2 -> 18 | K16: =+I16*J16 -> 0
A17: 1.5 | B17: GEODETSKA DELA
A18: 1.5.1. | B18: Izvedba aktivnosti v času od pričetka do zaključka del ki obsega: - prisotnost na operativnih sestankih in na gradbišču, - sodelovanje z INŽENIRJEM na gradbišču, - konzultacije in svetovanje - kontrola in pregled poročil notranje kontrole kvalitete izvajalca. | D18: po projektu in PTP | E18: - | F18: inž.dan | G18: 18 | H18: 1xinž.dan/mesec | I18: 18 | K18: =+I18*J18 -> 0
A19: 1.6 | B19: OSTALO - nepredvidena dela
A20: 1.6.1 | B20: Dodatne koordinacije, ostale meritve, preiskave, pregledi (več in nepredvidena dela), poročila, mnenja, ki niso zajeta v osnovnih postavka, jih pa je za zagotovitev in kontrolo kvalitete izvedbe ter za potrebe izdelave končnih poročil, ocen, potrebno izvršiti. Meritve, preiskave, pregledi, sestanki, koordinacije se izvedejo na podlagi naročila INŽENIRJA ali INVESTITORJA, obračun se izvede po dejansko porabljenem času in porabi materiala ter ostalih stroškov (7 % pogodbene vrednosti) | D20: po projektu in PTP | E20: - | F20: % | G20: 7 | I20: 1 | K20: =I20*J20 -> 0
A21: 1.7 | B21: KONČNO POROČILO
A22: 1.7.1 | B22: Končno skupno poročilo izvedenih preiskav zunanje kontrole kvalitete | I22: 1 | K22: =+I22*J22 -> 0
F23: SKUPAJ: | G23: =+B8 -> KONZULTACIJE IN SPREMLJAVA: | K23: =SUM(K10:K22) -> 0

Sheet 2_UPRAVNO SERVISNI OBJ.
A1: IZGRADNJA ODLAGALIŠČA NIZKO- IN SREDNJERADIOAKTIVNIH ODPADKOV (NSRAO) VRBINA, KRŠKO
A2: Program dela Zunanje kontrole kvalitete (ZKK)
A5: 2 | B5: UPRAVNO SERVISNI OBJEKT
A8: 2.1 PREGLED TEHNOLOŠKIH ELABORATOV IN PODAJA MNENJ
A10: Zap. štev. | B10: Predmet kontrole | C10: Vrsta preiskav | D10: Metoda preiskave | E10: Akreditacija DA/NE | F10: Obseg del | H10: Zunanja kontrola | J10: Vrednost (EUR)
F11: enota mere | G11: količina | H11: na enoto | I11: število | J11: C/E v EUR | K11: skupaj
A12: 2.1.1. | B12: Tehnološki elaborati za zemeljska dela | D12: po projektnih zahtevah in PTP | E12: - | F12: kom | G12: 1 | H12: 1/kom | I12: 1 | K12: =+J12*I12 -> 0
A13: 2.1.2. | B13: Tehnološki elaborati betonerskih del | D13: po projektnih zahtevah in PTP | E13: - | F13: kom | G13: 1 | H13: 1/kom | I13: 1 | K13: =+J13*I13 -> 0
A14: 2.1.3. | B14: Tehnološki elaborat za vidne betone s poskusnimi polji | D14: po projektnih zahtevah in PTP | E14: - | F14: kom | G14: 1 | H14: 1/kom | I14: 1 | K14: =+J14*I14 -> 0
A15: 2.1.4. | B15: Tehnološki elaborat obrtniških del | D15: po projektnih zahtevah in PTP | E15: - | F15: kom | G15: 1 | H15: 1/kom | I15: 1 | K15: =+J15*I15 -> 0
F16: SKUPAJ: | G16: =+A8 -> 2.1 PREGLED TEHNOLOŠKIH ELABORATOV IN PODAJA MNENJ | K16: =SUM(K12:K13) -> 0
A18: 2.2 ZEMELJSKA DELA IN TEMELJENJE
A20: 2.2.1. | B20: Temeljna tla
B21: Pregledi temeljnih tal in brežin (ogledi terena in temeljnih tal, kontrola pri vgrajevanju, pregledi tal pod temelji objektov (plitvo) | D21: po projektnih zahtevah, PTP, Evrokod 7 | E21: - | F21: št.objektov | G21: - | I21: 11 | K21: =+J21*I21 -> 0
A22: 2.2.2. | B22: Temeljna tla mehansko utrjena-TTMU | K22: =+J22*I22 -> 0
B23: - gostota in vlažnost (z izotopsko sondo) | D23: TSC 06.711 | E23: DA | F23: m2 | G23: 1500 | H23: 200 | I23: 40 | K23: =+J23*I23 -> 0
B24: - dinamični deformacijski modul - Evd | D24: TSC 06.720 | E24: DA | F24: m2 | G24: 1500 | H24: 400 | I24: 20 | K24: =+J24*I24 -> 0
B25: - statični deformacijski modul - Ev2 | D25: TSC 06.720 | E25: DA | F25: m2 | G25: 1500 | H25: 2000 | I25: 4 | K25: =+J25*I25 -> 0
B26: - zrnavost (kamniti materiali) | D26: SIST EN 933-1:2012 | E26: DA | F26: m2 | G26: 1500 | H26: 10000 | I26: 4 | K26: =+J26*I26 -> 0
B27: - Proctorjev preskus | D27: SIST EN 13286-2:2010/AC:2013 | E27: DA | F27: m2 | G27: 1500 | H27: 10000 | I27: 4 | K27: =+J27*I27 -> 0
B28: - vlažnost (zemljine) | D28: SIST EN ISO 17892-1:2015 in SIST EN 1097-5:2008 | E28: DA | F28: m2 | G28: 1500 | H28: 10000 | I28: 4 | K28: =+J28*I28 -> 0
B29: - delež humoznih primesi | D29: SIST EN 1744-1:2010+A1:2013, T15.1 | E29: DA | F29: m2 | G29: 1500 | H29: 10000 | I29: 4 | K29: =+J29*I29 -> 0
B30: - konsistenčne meje vezljivih zemljin | D30: SIST EN ISO 17892-12:2018 | E30: DA | F30: m2 | G30: 1500 | H30: 10000 | I30: 2 | K30: =+J30*I30 -> 0
A31: 2.2.3 | B31: Drenažne in filtrske plasti, nasipi, zasipi, klini, posteljica in tampon | K31: =+J31*I31 -> 0
B32: Kontrola vgrajevanja | K32: =+J32*I32 -> 0
B33: - kontrola vgradnje, materialov in debeline plasti | D33: po projektnih zahtevah, PTP | E33: NE | F33: m3 | G33: 1250 | H33: - | I33: 5 | K33: =+J33*I33 -> 0
B34: Nasipi, zasipi, plato gradbišča | K34: =+J34*I34 -> 0
B35: - gostota in vlažnost (z izotopsko sondo) | D35: TSC 06.711 | E35: DA | F35: m3 | G35: 1250 | H35: - | I35: 5 | K35: =+J35*I35 -> 0
B36: - dinamični deformacijski modul - Evd | D36: TSC 06.720 | E36: DA | F36: m3 | G36: 1250 | H36: - | I36: 10 | K36: =+J36*I36 -> 0
B37: - statični deformacijski modul - Ev2 | D37: TSC 06.720 | E37: DA | F37: m3 | G37: 1250 | H37: - | I37: 5 | K37: =+J37*I37 -> 0
B38: - zrnavost (kamniti materiali) | D38: SIST EN 933-1:2012 | E38: DA | F38: m3 | G38: 1250 | H38: - | I38: 3 | K38: =+J38*I38 -> 0
B39: - Proctorjev preskus | D39: SIST EN 13286-2:2010/AC:2013 | E39: DA | F39: m3 | G39: 1250 | H39: - | I39: 1 | K39: =+J39*I39 -> 0
B40: - vlažnost (zemljine) | D40: SIST EN ISO 17892-1:2015 in SIST EN 1097-5:2008 | E40: DA | F40: m3 | G40: 1250 | H40: - | I40: 3 | K40: =+J40*I40 -> 0
B41: - delež humoznih primesi | D41: SIST EN 1744-1:2010+A1:2013, T15.1 | E41: DA | F41: m3 | G41: 1250 | H41: - | I41: 3 | K41: =+J41*I41 -> 0
B42: - konsistenčne meje vezljivih zemljin | D42: SIST EN ISO 17892-12:2018 | E42: DA | F42: m3 | G42: 1250 | H42: - | I42: 0 | K42: =+J42*I42 -> 0
A43: 2.2.4 | B43: Vmesna poročila z vrednotenjem NKK | D43: po projektnih zahtevah in PTP | E43: - | F43: kos | G43: 2 | H43: 1/sklop | I43: 2 | K43: =+J43*I43 -> 0
A44: 2.2.5 | B44: Končno poročilo za zemljska dela za objekt z vrednotenjem NKK | D44: po projektnih zahtevah in PTP | E44: - | F44: kos | G44: 1 | H44: 1/sklop | I44: 1 | K44: =+J44*I44 -> 0
F45: SKUPAJ: | G45: =+A18 -> 2.2 ZEMELJSKA DELA IN TEMELJENJE | K45: =SUM(K21:K44) -> 0
A47: 2.3 ARMATURNA JEKLA
A49: Zap. štev. | B49: Predmet kontrole | C49: Vrsta preiskav | D49: Metoda preiskave | E49: Akreditacija DA/NE | F49: Obseg del | H49: Zunanja kontrola | J49: Vrednost (EUR)
F50: enota mere | G50: količina | H50: na enoto | I50: število | J50: C/E v EUR | K50: skupaj
A51: 2.3.1 | B51: Armaturna jekla
B52: Armaturne palice (Rm, Re, Rm/Re, Agt, upogib, dimenzijska kontrola, geometrijska kontrola, kemijska analiza) | D52: SIST EN ISO 15630-1:2011 | E52: DA | F52: kg | G52: 252000 | I52: 5 | K52: =+J52*I52 -> 0
B53: Armaturne mreže (Rm, Re, Agt, upogib, dimenzijska kontrola, geometrijska kontrola) | D53: SIST EN ISO 15630-2:2011 | E53: DA | F53: kg | I53: 1 | K53: =+J53*I53 -> 0
A54: 2.3.2. | B54: Vmesna poročila z vrednotenjem NKK | D54: po projektnih zahtevah in PTP | E54: - | F54: kos | I54: 1 | K54: =+J54*I54 -> 0
A55: 2.3.3. | B55: Končno poročilo za armiraška dela za objekt z vrednotenjem NKK | D55: po projektnih zahtevah in PTP | E55: - | F55: kos | I55: 1 | K55: =+J55*I55 -> 0
F56: SKUPAJ: | G56: =+A47 -> 2.3 ARMATURNA JEKLA | K56: =SUM(K52:K55) -> 0
A58: 2.4 KOVINSKE KONSTRUKCIJE
A60: Zap. štev. | B60: Predmet kontrole | C60: Vrsta preiskav | D60: Metoda preiskave | E60: Akreditacija DA/NE | F60: Obseg del | H60: Zunanja kontrola | J60: Vrednost (EUR)
F61: enota mere | G61: količina | H61: na enoto | I61: število | J61: C/E v EUR | K61: skupaj
A62: 2.4.1 | B62: Kovinske konstrukcije
B63: Skladnost izvedbe s projektom | I63: 1 | K63: =+J63*I63 -> 0
B64: Preskusi materialov | D64: SIST EN ISO 1461:2009 | E64: NE | F64: kg | G64: 9800 | H64: SIST EN ISO 1461:2009 | I64: 1 | K64: =+J64*I64 -> 0
B65: Kontrola zvarov in vijačenja | I65: 1 | K65: =+J65*I65 -> 0
B66: Kontrola protikorozijske zaščite | I66: 1 | K66: =+J66*I66 -> 0
A67: 2.4.2. | B67: Vmesna poročila o izvedenih pregledih z vrednotenjem NKK | D67: po projektnih zahtevah in PTP | E67: - | F67: kos | I67: 1 | K67: =+J67*I67 -> 0
A68: 2.4.3. | B68: Končna ocena s pregledom rezultatov notranje kontrole | D68: po projektnih zahtevah in PTP | E68: - | F68: kos | I68: 1 | K68: =+J68*I68 -> 0
F69: SKUPAJ: | G69: =+A58 -> 2.4 KOVINSKE KONSTRUKCIJE | K69: =SUM(K63:K68) -> 0
A72: 2.5 HIDROIZOLACIJSKA DELA (PVC mebrana)
A74: Zap. štev. | B74: Predmet kontrole | C74: Vrsta preiskav | D74: Metoda preiskave | E74: Akreditacija DA/NE | F74: Obseg del | H74: Zunanja kontrola | J74: Vrednost (EUR)
F75: enota mere | G75: količina | H75: na enoto | I75: število | J75: C/E v EUR | K75: skupaj
A76: 2.5.1 | B76: PVC membrana | F76: m2
A77: 2.5.1-1 | B77: Predgled dokumentacije | D77: po projektnih zahtevah in PTP | E77: - | I77: 1 | K77: =+J77*I77 -> 0
A78: 2.5.1-2 | B78: Debelina | D78: SIST EN 1849-2 | E78: NE | I78: 1 | K78: =+J78*I78 -> 0
A79: 2.5.1-3 | B79: Natezne karakteristike | D79: SIST EN 12311-2 | E79: NE | I79: 1 | K79: =+J79*I79 -> 0
A80: 2.5.1-4 | B80: Dimenzijska stabilnost | D80: SIST EN 1107-2 | E80: NE | I80: 1 | K80: =+J80*I80 -> 0
F81: SKUPAJ: | G81: =+A72 -> 2.5 HIDROIZOLACIJSKA DELA (PVC mebrana) | K81: =SUM(K77:K80) -> 0
A84: 2.6 BETONSKA DELA
C85: Nearmirani betoni: | E85: 248 | F85: m3
C86: Armirani betoni: | E86: 1435 | F86: m3
A88: Zap. štev. | B88: Predmet kontrole | C88: Vrsta preiskav | D88: Metoda preiskave | E88: Akreditacija DA/NE | F88: Obseg del | H88: Zunanja kontrola | J88: Vrednost (EUR)
F89: enota mere | G89: količina | H89: na enoto | I89: število | J89: C/E v EUR | K89: skupaj
A90: 2.6.1 | B90: Pregled dokumentacije, verifikacije in kontrole
A91: 2.6.1.1 | B91: Pregled dokumentacije, tehnoekonomskih elaboratov izvajalca in podajanje pisnih mnenj. Pregled in potrditev PIBK. | D91: po projektnih zahtevah in PTP in SIST EN 13670 | E91: - | F91: kos | H91: 1/kos | I91: 2 | K91: =+I91*J91 -> 0
A92: 2.6.1.2 | B92: Verifikacija tehničnih postopkov vgrajevanja vidnih betonov - pregled in ocena poskusnih polj, prvo betoniranje | D92: po projektnih zahtevah in PTP | E92: - | F92: kom | H92: 1/kom | I92: 5 | K92: =+I92*J92 -> 0
A93: 2.6.1.3 | B93: Kontrola strokovnjaka za vidne betone (ogled testnih polj, opaži in vgradnja betona) | D93: po projektnih zahtevah in PTP | E93: - | F93: inž.dan | H93: inž.dan / obisk | I93: 20 | K93: =+I93*J93 -> 0
A94: 2.6.2 | B94: Sveži beton - odvzem vzorca
A95: 2.6.2.1 | B95: Obisk laboranta in odvzem vzorcev - vzorčenje | D95: SIST EN 12350-1 | E95: DA | H95: laborant dan / obisk | I95: 20 | K95: =+I95*J95 -> 0
A96: 2.6.2.2 | B96: Konsistenca (posed) | D96: SIST EN 12350-2 | E96: DA | H96: test / preskus | I96: 20 | K96: =+I96*J96 -> 0
A97: 2.6.2.3 | B97: vodocementno razmerje | D97: SIST1026 dodatek NC | E97: DA | H97: test / preskus | I97: 8 | K97: =+I97*J97 -> 0
A98: 2.6.2.4 | B98: Gostota svežega betona | D98: SIST EN 12350-6 | E98: DA | H98: test / preskus | I98: 8 | K98: =+I98*J98 -> 0
A99: 2.6.3 | B99: Strjeni beton
A100: 2.6.3.1 | B100: Tlačna trdnost 28 dni | D100: SIST 12390-3 | E100: DA | H100: test / preskus | I100: 15 | K100: =+I100*J100 -> 0
A101: 2.6.3.2 | B101: Globina vpijanje vode pod pritiskom (test na setu 3 kock) | D101: SIST EN 12390-8 | E101: DA | H101: test / preskus | I101: 2 | K101: =+I101*J101 -> 0
A102: 2.6.3.3 | B102: Notranja odpornost betona proti zmrzovanju/tajanju (NOZT 150 ) | D102: SIST1026 dodatek ND | E102: DA | H102: test / preskus | I102: 1 | K102: =+I102*J102 -> 0
A103: 2.6.3.4 | B103: Odpornost bet. proti zmrzovanju/tajanju ob prisotnosti soli (OPZT S25) | D103: SIST1026 dodatek NE | E103: DA | H103: test / preskus | I103: 1 | K103: =+I103*J103 -> 0
A104: 2.6.3.5 | B104: Odpornost betona proti obrabi | D104: SIST1026 dodatek NF | E104: DA | H104: test / preskus | I104: 1 | K104: =+I104*J104 -> 0
A105: 2.6.4 | B105: Estrihi (brušeni betoni - liti terazzo)
A106: 2.6.4.1 | B106: Obisk laboranta in odvzem vzorcev - vzorčenje | D106: SIST EN 13892-1 | E106: DA | F106: lab.dan | H106: laborant dan / obisk | I106: 3 | K106: =+I106*J106 -> 0
A107: 2.6.4.2 | B107: Upogibna in tlačna trdnost (set 3 prizmic 40x40x160mm) | D107: SIST EN 13892-2 | E107: DA | H107: test / preskus | I107: 3 | K107: =+I107*J107 -> 0
A108: 2.6.5 | B108: Izdelava poročil z oceno izvedenih del
A109: 2.6.5.1 | B109: Vmesna poročila z vrednotenjem NKK | D109: SIST EN 13670 | E109: - | F109: kos | H109: 1/sklop | I109: 5 | K109: =+I109*J109 -> 0
A110: 2.6.5.2 | B110: Končno poročilo za beton s pregledom in vrednotenjem rezultatov NKK | D110: SIST EN 13670 | E110: - | F110: kos | H110: 1/sklop | I110: 1 | K110: =+I110*J110 -> 0
F111: SKUPAJ: | G111: =+A84 -> 2.6 BETONSKA DELA | K111: =SUM(K91:K110) -> 0
F113: SKUPAJ UPRAVNO SERVISNI OBJEKT | K113: =+K16+K45+K56+K69+K81+K111 -> 0

Sheet 3_TEHNOLOŠKI OBJEKT
A1: IZGRADNJA ODLAGALIŠČA NIZKO- IN SREDNJERADIOAKTIVNIH ODPADKOV (NSRAO) VRBINA, KRŠKO
A2: Program dela Zunanje kontrole kvalitete (ZKK)
A5: 3 | B5: TEHNOLOŠKI OBJEKT IN BAZEN TEHNOLOŠKE VODE
A8: 3.1 PREGLED TEHNOLOŠKIH ELABORATOV IN PODAJA MNENJ
A10: Zap. štev. | B10: Predmet kontrole | C10: Vrsta preiskav | D10: Metoda preiskave | E10: Akreditacija DA/NE | F10: Obseg del | H10: Zunanja kontrola | J10: Vrednost (EUR)
F11: enota mere | G11: količina | H11: na enoto | I11: število | J11: C/E v EUR | K11: skupaj
A12: 3.1.1. | B12: Tehnološki elaborati za zemeljska dela in stabilizacijo temeljnih tal | D12: po projektnih zahtevah in PTP | E12: - | F12: kom | G12: 1 | H12: 1/kom | I12: 1 | K12: =+I12*J12 -> 0
A13: 3.1.2. | B13: Tehnološki elaborati betonerskih del, opaži armatura | D13: po projektnih zahtevah in PTP | E13: - | F13: kom | G13: 1 | H13: 1/kom | I13: 1 | K13: =+I13*J13 -> 0
A14: 3.1.3. | B14: Tehnološki elaborat za vidne betone s poskusnimi polji | D14: po projektnih zahtevah in PTP | E14: - | F14: kom | G14: 1 | H14: 1/kom | I14: 1 | K14: =+I14*J14 -> 0
A15: 3.1.4. | B15: Tehnološki elaborat obrtniških del | D15: po projektnih zahtevah in PTP | E15: - | F15: kom | G15: 1 | H15: 1/kom | I15: 1 | K15: =+I15*J15 -> 0
F16: SKUPAJ: | G16: =+A8 -> 3.1 PREGLED TEHNOLOŠKIH ELABORATOV IN PODAJA MNENJ | K16: =SUM(K12:K13) -> 0
A18: 3.2 ZEMELJSKA DELA IN TEMELJENJE
A20: 3.2.1. | B20: Temeljna tla
B21: Pregledi temeljnih tal in brežin (ogledi terena in temeljnih tal, kontrola pri vgrajevanju, pregledi tal pod temelji objektov (plitvo) | D21: po projektnih zahtevah, PTP, Evrokod 7 | E21: - | F21: št.objektov | G21: - | H21: 2-3/obj. | I21: 5 | K21: =+I21*J21 -> 0
A22: 3.2.2. | B22: Temeljna tla mehansko utrjena-TTMU | K22: =+I22*J22 -> 0
B23: - gostota in vlažnost (z izotopsko sondo) | D23: TSC 06.711 | E23: DA | F23: m2 | G23: 3400 | H23: 200 | I23: =+G23/H23 -> 17 | K23: =+I23*J23 -> 0
B24: - dinamični deformacijski modul - Evd | D24: TSC 06.720 | E24: DA | F24: m2 | G24: 3400 | H24: 400 | I24: 10 | K24: =+I24*J24 -> 0
B25: - statični deformacijski modul - Ev2 | D25: TSC 06.720 | E25: DA | F25: m2 | G25: 3400 | H25: 2000 | I25: 5 | K25: =+I25*J25 -> 0
B26: - zrnavost (kamniti materiali) | D26: SIST EN 933-1:2012 | E26: DA | F26: m2 | G26: 3400 | H26: 10000 | I26: 3 | K26: =+I26*J26 -> 0
B27: - Proctorjev preskus | D27: SIST EN 13286-2:2010/AC:2013 | E27: DA | F27: m2 | G27: 3400 | H27: 10000 | I27: 3 | K27: =+I27*J27 -> 0
B28: - vlažnost (zemljine) | D28: SIST EN ISO 17892-1:2015 in SIST EN 1097-5:2008 | E28: DA | F28: m2 | G28: 3400 | H28: 10000 | I28: 3 | K28: =+I28*J28 -> 0
B29: - delež humoznih primesi | D29: SIST EN 1744-1:2010+A1:2013, T15.1 | E29: DA | F29: m2 | G29: 3400 | H29: 10000 | I29: 3 | K29: =+I29*J29 -> 0
B30: - konsistenčne meje vezljivih zemljin | D30: SIST EN ISO 17892-12:2018 | E30: DA | F30: m2 | G30: 3400 | H30: 10000 | I30: 2 | K30: =+I30*J30 -> 0
A31: 3.2.3. | B31: Drenažne in filtrske plasti, nasipi, zasipi, klini, posteljica in tampon | K31: =+I31*J31 -> 0
B32: Kontrola vgrajevanja | K32: =+I32*J32 -> 0
B33: - kontrola izvajanja vgradnje, materialov in debeline plasti | D33: po projektnih zahtevah, PTP | E33: NE | F33: m3 | G33: 1250 | H33: - | I33: 10 | K33: =+I33*J33 -> 0
B34: Nasipi, zasipi, plato gradbišča | K34: =+I34*J34 -> 0
B35: - gostota in vlažnost (z izotopsko sondo) | D35: TSC 06.711 | E35: DA | F35: m3 | G35: 1250 | H35: - | I35: 5 | K35: =+I35*J35 -> 0
B36: - dinamični deformacijski modul - Evd | D36: TSC 06.720 | E36: DA | F36: m3 | G36: 1250 | H36: - | I36: 10 | K36: =+I36*J36 -> 0
B37: - statični deformacijski modul - Ev2 | D37: TSC 06.720 | E37: DA | F37: m3 | G37: 1250 | H37: - | I37: 5 | K37: =+I37*J37 -> 0
B38: - zrnavost (kamniti materiali) | D38: SIST EN 933-1:2012 | E38: DA | F38: m3 | G38: 1250 | H38: - | I38: 3 | K38: =+I38*J38 -> 0
B39: - Proctorjev preskus | D39: SIST EN 13286-2:2010/AC:2013 | E39: DA | F39: m3 | G39: 1250 | H39: - | I39: 1 | K39: =+I39*J39 -> 0
B40: - vlažnost (zemljine) | D40: SIST EN ISO 17892-1:2015 in SIST EN 1097-5:2008 | E40: DA | F40: m3 | G40: 1250 | H40: - | I40: 3 | K40: =+I40*J40 -> 0
B41: - delež humoznih primesi | D41: SIST EN 1744-1:2010+A1:2013, T15.1 | E41: DA | F41: m3 | G41: 1250 | H41: - | I41: 3 | K41: =+I41*J41 -> 0
B42: - konsistenčne meje vezljivih zemljin | D42: SIST EN ISO 17892-12:2018 | E42: DA | F42: m3 | G42: 1250 | H42: - | I42: 0 | K42: =+I42*J42 -> 0
A43: 3.2.4 | B43: Vmesna poročila z vrednotenjem NKK | D43: po projektnih zahtevah in PTP | E43: - | F43: kos | G43: 2 | H43: 1/sklop | I43: 2 | K43: =+I43*J43 -> 0
A44: 3.2.5. | B44: Končno poročilo za zemljska dela za objekt z vrednotenjem NKK | D44: po projektnih zahtevah in PTP | E44: - | F44: kos | G44: 1 | H44: 1/sklop | I44: 1 | K44: =+I44*J44 -> 0
F45: SKUPAJ: | G45: =+A18 -> 3.2 ZEMELJSKA DELA IN TEMELJENJE | K45: =SUM(K21:K44) -> 0
A47: 3.3 ARMATURNA JEKLA
A49: Zap. štev. | B49: Predmet kontrole | C49: Vrsta preiskav | D49: Metoda preiskave | E49: Akreditacija DA/NE | F49: Obseg del | H49: Zunanja kontrola | J49: Vrednost (EUR)
F50: enota mere | G50: količina | H50: na enoto | I50: število | J50: C/E v EUR | K50: skupaj
A51: 3.3.1 | B51: Armaturna jekla
B52: Armaturne palice (Rm, Re, Rm/Re, Agt, upogib, dimenzijska kontrola, geometrijska kontrola, kemijska analiza) | D52: SIST EN ISO 15630-1:2011 | E52: DA | F52: kg | G52: 810000 | I52: 15 | K52: =+I52*J52 -> 0
B53: Armaturne mreže (Rm, Re, Agt, upogib, dimenzijska kontrola, geometrijska kontrola) | D53: SIST EN ISO 15630-2:2011 | E53: DA | F53: kg | I53: 3 | K53: =+I53*J53 -> 0
A54: 3.3.2 | B54: Vmesna poročila z vrednotenjem NKK | D54: po projektnih zahtevah in PTP | E54: - | F54: kos | G54: 2 | I54: 1 | K54: =+I54*J54 -> 0
A55: 3.3.3 | B55: Končno poročilo za armiraška dela za objekt z vrednotenjem NKK | D55: po projektnih zahtevah in PTP | E55: - | F55: kos | G55: 2 | I55: 1 | K55: =+I55*J55 -> 0
F56: SKUPAJ: | G56: =+A47 -> 3.3 ARMATURNA JEKLA | K56: =SUM(K52:K55) -> 0
A58: 3.4 KOVINSKE KONSTRUKCIJE
A60: Zap. štev. | B60: Predmet kontrole | C60: Vrsta preiskav | D60: Metoda preiskave | E60: Akreditacija DA/NE | F60: Obseg del | H60: Zunanja kontrola | J60: Vrednost (EUR)
F61: enota mere | G61: količina | H61: na enoto | I61: število | J61: C/E v EUR | K61: skupaj
A62: 3.4.1 | B62: Kovinske konstrukcije
B63: Skladnost izvedbe s projektom | F63: kg | G63: 3300 | I63: 1 | K63: =+I63*J63 -> 0
B64: Preskusi materialov | D64: SIST EN ISO 1461:2009 | E64: NE | I64: 1 | K64: =+I64*J64 -> 0
B65: Kontrola zvarov in vijačenja | I65: 1 | K65: =+I65*J65 -> 0
B66: Kontrola protikorozijske zaščite | I66: 1 | K66: =+I66*J66 -> 0
A67: 3.4.2 | B67: Vmesna poročila o izvedenih pregledih z vrednotenjem NKK | D67: po projektnih zahtevah in PTP | E67: - | F67: kos | I67: 1 | K67: =+I67*J67 -> 0
A68: 3.4.3 | B68: Končna ocena s pregledom rezultatov notranje kontrole | D68: po projektnih zahtevah in PTP | E68: - | F68: kos | I68: 1 | K68: =+I68*J68 -> 0
F69: SKUPAJ: | G69: =+A58 -> 3.4 KOVINSKE KONSTRUKCIJE | K69: =SUM(K63:K68) -> 0
A71: 3.5 HIDROIZOLACIJSKA DELA (trakov 720m2+480m2, vodotesni premaz 90m2, PVC folija 45m2, )
A73: Zap. štev. | B73: Predmet kontrole | C73: Vrsta preiskav | D73: Metoda preiskave | E73: Akreditacija DA/NE | F73: Obseg del | H73: Zunanja kontrola | J73: Vrednost (EUR)
F74: enota mere | G74: količina | H74: na enoto | I74: število | J74: C/E v EUR | K74: skupaj
A75: 3.5.1 | B75: Trakovi, premazi, PVC folija
B76: Kontrola izvedbe na terenu | D76: po projektnih zahtevah | E76: - | I76: 3 | K76: =+I76*J76 -> 0
F77: SKUPAJ: | G77: =+A71 -> 3.5 HIDROIZOLACIJSKA DELA (trakov 720m2+480m2, vodotesni premaz 90m2, PVC folija 45m2, ) | K77: =SUM(K75:K76) -> 0
A79: 3.6 JET GROUTING
A82: Zap. štev. | B82: Predmet kontrole | C82: Vrsta preiskav | D82: Metoda preiskave | E82: Akreditacija DA/NE | F82: Obseg del | H82: Zunanja kontrola | J82: Vrednost (EUR)
F83: enota mere | G83: količina | H83: na enoto | I83: število | J83: C/E v EUR | K83: skupaj
A84: 3.6.1. | B84: POSKUSNO POLJE
B85: 6 slopov, 3,3m = 19,8m
B86: 6.930kg injekcijske mase
B87: - geološka spremljava vrtanja | D87: po projektnih zahtevah in PTP | E87: - | F87: kos | G87: 1 | H87: 1/kos | I87: 1 | K87: =+I87*J87 -> 0
B88: - spremljava izvedbe del (prisotnost pri izvajanju poskusnega polja, odkopu, kontrolnih vrtinah) | D88: po projektnih zahtevah in PTP, SIST EN 12 716 | E88: - | F88: kos | G88: 1 | H88: 1/kos | I88: 1 | K88: =+I88*J88 -> 0
B89: - preiskave injekcijske mase za jet grouting (z odvzemom vzorca, preiskavami na terenu in v laboratoriju: pretočnost, izločanje vode in tlačna trdnost s poročilom) | D89: po projektnih zahtevah in PTP, SIST EN 445 | E89: DA, pretočnost, prost. masa, EN 445:2008 | F89: kos | G89: 1 | H89: 1/kos | I89: 2 | K89: =+I89*J89 -> 0
B90: - Kontrolne preiskave vzorcev iz izvedene JG konstrukcije (gostota, tlačna trdnost, strižne karakteristike s poročilom) | D90: ASTM D 5607 | E90: - | F90: kos | G90: 1 | H90: 1/kos | I90: 2 | K90: =+I90*J90 -> 0
B91: - vrednotenje rezultatov notranje in zunanje kontrole in verifikacija postopka injektiranja s poročilom | D91: po projektnih zahtevah in PTP | E91: - | F91: kos | G91: 1 | H91: 1/kos | I91: 1 | K91: =+I91*J91 -> 0
A92: 3.6.2. | B92: IZVEDBA POBOLJŠANJA TEMELJNIH TAL
B93: 385 slopov, 4,5m = 1732,5 m | D93: - | E93: -
B94: 462.000 kg injekcijske mase | D94: - | E94: -
B95: - nadzor nad dodatnimi raziskovalnimi geološkimi raziskavami | D95: po projektnih zahtevah in PTP | E95: - | F95: kos | G95: 10 | H95: 1/kos | I95: =+G95 -> 10 | K95: =I95*J95 -> 0
B96: - spremljava izvedbe del, kontrola rojstnih listov | D96: po projektnih zahtevah in PTP | E96: - | F96: kos | G96: 5 | H96: 1/kos | I96: 3 | K96: =+I96*J96 -> 0
B97: - preiskave injekcijske mase za jet grouting (z odvzemom vzorca, preiskavami na terenu in v laboratoriju: pretočnost, izločanje vode in tlačna trdnost s poročilom) | D97: po projektnih zahtevah in PTP, SIST EN 445 | E97: DA, pretočnost, prost. masa, EN 445:2008 | F97: kos | G97: 5 | H97: 1/kos | I97: 3 | K97: =+I97*J97 -> 0
B98: - Kontrolne preiskave vzorcev iz izvedene JG konstrukcije (gostota, tlačna trdnost, strižne karakteristike s poročilom) | D98: ASTM D 5607 | E98: - | F98: kos | G98: 1 | H98: 1/kos | I98: 3 | K98: =+I98*J98 -> 0
B99: - spremljava in vrednotenje preiskav izvedenega injektiranja | D99: po projektnih zahtevah in PTP | E99: - | F99: kos | G99: 5 | H99: 1/kos | I99: =+G99 -> 5 | K99: =+I99*J99 -> 0
A100: 3.6.3. | B100: Vmesna poročila o izvedenih pregledih in vrednotenje poročil ZKK | D100: po projektnih zahtevah in PTP | E100: - | F100: kos | G100: 1 | I100: 1 | K100: =+I100*J100 -> 0
A101: 3.6.4. | B101: Končna ocena s pregledom rezultatov notranje kotnrole | D101: po projektnih zahtevah in PTP | E101: - | F101: kos | G101: 1 | I101: 1 | K101: =+I101*J101 -> 0
F102: SKUPAJ: | G102: =+A79 -> 3.6 JET GROUTING | K102: =SUM(K87:K101) -> 0
A105: 3.7 BETONSKA DELA
B106: Nearmirani betoni: | D106: 350 | E106: m3
B107: Armirani betoni: | D107: 2850 | E107: m3
B108: Mikroarmirani betoni | D108: 350 | E108: m3
A110: Zap. štev. | B110: Predmet kontrole | C110: Vrsta preiskav | D110: Metoda preiskave | E110: Akreditacija DA/NE | F110: Obseg del | H110: Zunanja kontrola | J110: Vrednost (EUR)
F111: enota mere | G111: količina | H111: na enoto | I111: število | J111: C/E v EUR | K111: skupaj
A112: 3.7.1 | B112: Pregled dokumentacije, verifikacije in kontrole
A113: 3.7.1.1 | B113: Pregled dokumentacije, tehnoekonomskih elaboratov izvajalca in podajanje pisnih mnenj. Pregled in potrditev PIBK. | D113: po projektnih zahtevah in PTP in SIST EN 13670 | E113: - | F113: kos | H113: 1/kos | I113: 1 | K113: =+I113*J113 -> 0
A114: 3.7.1.2 | B114: Verifikacija tehničnih postopkov vgrajevanja vidnih betonov - pregled in ocena poskusnih polj, prvo betoniranje | D114: po projektnih zahtevah in PTP | E114: - | F114: kom | H114: 1/kom | I114: 2 | K114: =+I114*J114 -> 0
A115: 3.7.1.3 | B115: Kontrola strokovnjaka za vidne betone (ogled testnih polj, opaži in vgradnja betona) | D115: po projektnih zahtevah in PTP | E115: - | F115: inž.dan | H115: inž.dan / obisk | I115: 8 | K115: =+I115*J115 -> 0
A116: 3.7.2 | B116: Sveži beton - odvzem vzorca
A117: 3.7.2.1 | B117: Obisk laboranta in odvzem vzorcev - vzorčenje | D117: SIST EN 12350-1 | E117: DA | H117: laborant dan / obisk | I117: 30 | K117: =+I117*J117 -> 0
A118: 3.7.2.2 | B118: Konsistenca (posed) | D118: SIST EN 12350-2 | E118: DA | H118: test / preskus | I118: 30 | K118: =+I118*J118 -> 0
A119: 3.7.2.3 | B119: vodocementno razmerje | D119: SIST1026 dodatek NC | E119: DA | H119: test / preskus | I119: 12 | K119: =+I119*J119 -> 0
...

Sheet 4_SILOS
A1: IZGRADNJA ODLAGALIŠČA NIZKO- IN SREDNJERADIOAKTIVNIH ODPADKOV (NSRAO) VRBINA, KRŠKO
A2: Program dela Zunanje kontrole kvalitete (ZKK)
A5: 4 | B5: SILOS
A8: 4.1 PREGLED TEHNOLOŠKIH ELABORATOV IN PODAJA MNENJ
A10: Zap. štev. | B10: Predmet kontrole | C10: Vrsta preiskav | D10: Metoda preiskave | E10: Akreditacija DA/NE | F10: Obseg del | H10: Zunanja kontrola | J10: Vrednost (EUR)
F11: enota mere | G11: količina | H11: na enoto | I11: število | J11: C/E v EUR | K11: SKUPAJ
A12: 4.1.1. | B12: Tehnološki elaborati izvedbe primarne obloge - DEBELOSTENSKA DIAFRAGMA s poskusnim poljem | D12: po projektnih zahtevah in PTP | E12: - | F12: kom | G12: 1 | H12: 1/kom | I12: 1 | K12: =+J12*I12 -> 0
A13: 4.1.2. | B13: Tehnološki elaborati izvedbe zemeljskih del, izkopi, zasipi, črpanje vode, izenačitev pornih tlakov, priprava podloge za polaganje PVC membrane | D13: po projektnih zahtevah in PTP | E13: - | F13: kom | G13: 1 | H13: 1/kom | I13: 1 | K13: =+J13*I13 -> 0
A14: 4.1.3. | B14: Tehnološki elaborati izvedbe PVC membrane, tesnilni trakovi | D14: po projektnih zahtevah in PTP | E14: - | F14: kom | G14: 1 | H14: 1/kom | I14: 1 | K14: =+J14*I14 -> 0
A15: 4.1.4. | B15: Tehnološki elaborat izvedbe sekundarne obloge silosa, drenaže, betoni, opaži, armatura, stopnišče | D15: po projektnih zahtevah in PTP | E15: - | F15: kom | G15: 1 | H15: 1/kom | I15: 1 | K15: =+J15*I15 -> 0
A16: 4.1.5. | B16: Tehnološki elaborat obrtniških del | D16: po projektnih zahtevah in PTP | E16: - | F16: kom | G16: 1 | H16: 1/kom | I16: 1 | K16: =+J16*I16 -> 0
F17: SKUPAJ: | G17: =+A8 -> 4.1 PREGLED TEHNOLOŠKIH ELABORATOV IN PODAJA MNENJ | K17: =SUM(K12:K16) -> 0
A19: 4.2 ZEMELJSKA DELA IN TEMELJENJE
A21: 4.2.1 | B21: Temeljna tla
B22: Pregledi temeljnih tal in izkopov, geomehanska spremljava izkopov | D22: po projektnih zahtevah, PTP, Evrokod 7 | E22: - | F22: dni izkopov | G22: 210 | H22: 1/14 dni | I22: 15 | K22: =+J22*I22 -> 0
A23: 4.2.2 | B23: Temeljna tla mehansko utrjena-TTMU | K23: =+J23*I23 -> 0
B24: - gostota in vlažnost (z izotopsko sondo) | D24: TSC 06.711 | E24: DA | F24: m2 | G24: 7350 | H24: 200 | I24: 40 | K24: =+J24*I24 -> 0
B25: - dinamični deformacijski modul - Evd | D25: TSC 06.720 | E25: DA | F25: m2 | G25: 7350 | H25: 400 | I25: 20 | K25: =+J25*I25 -> 0
B26: - statični deformacijski modul - Ev2 | D26: TSC 06.720 | E26: DA | F26: m2 | G26: 7350 | H26: 2000 | I26: 4 | K26: =+J26*I26 -> 0
B27: - zrnavost (kamniti materiali) | D27: SIST EN 933-1:2012 | E27: DA | F27: m2 | G27: 7350 | H27: 10000 | I27: 4 | K27: =+J27*I27 -> 0
B28: - Proctorjev preskus | D28: SIST EN 13286-2:2010/AC:2013 | E28: DA | F28: m2 | G28: 7350 | H28: 10000 | I28: 4 | K28: =+J28*I28 -> 0
B29: - vlažnost (zemljine) | D29: SIST EN ISO 17892-1:2015 in SIST EN 1097-5:2008 | E29: DA | F29: m2 | G29: 7350 | H29: 10000 | I29: 4 | K29: =+J29*I29 -> 0
B30: - delež humoznih primesi | D30: SIST EN 1744-1:2010+A1:2013, T15.1 | E30: DA | F30: m2 | G30: 7350 | H30: 10000 | I30: 4 | K30: =+J30*I30 -> 0
B31: - konsistenčne meje vezljivih zemljin | D31: SIST EN ISO 17892-12:2018 | E31: DA | F31: m2 | G31: 7350 | H31: 10000 | I31: 2 | K31: =+J31*I31 -> 0
B32: - preiskava grobozrnatega materiala v veliki strižni celici | D32: BS 1377 | E32: NE | I32: 1 | K32: =+J32*I32 -> 0
A33: 4.2.3. | B33: Drenažne in filtrske plasti, nasipi, zasipi, klini, posteljica in tampon | K33: =+J33*I33 -> 0
B34: Kontrola vgrajevanja | K34: =+J34*I34 -> 0
B35: - kontrola izvajanja,vgradnje, materialov in debeline plasti | D35: po projektnih zahtevah, PTP | E35: NE | F35: m3 | G35: 12000 | H35: 1500 | I35: 5 | K35: =+J35*I35 -> 0
B36: Nasipi, zasipi, plato gradbišča | K36: =+J36*I36 -> 0
B37: - gostota in vlažnost (z izotopsko sondo) | D37: TSC 06.711 | E37: DA | F37: m3 | G37: 12000 | H37: 2000 | I37: 6 | K37: =+J37*I37 -> 0
B38: - dinamični deformacijski modul - Evd | D38: TSC 06.720 | E38: DA | F38: m3 | G38: 12000 | H38: 2000 | I38: 6 | K38: =+J38*I38 -> 0
B39: - statični deformacijski modul - Ev2 | D39: TSC 06.720 | E39: DA | F39: m3 | G39: 12000 | H39: 2000 | I39: 6 | K39: =+J39*I39 -> 0
B40: - zrnavost (kamniti materiali) | D40: SIST EN 933-1:2012 | E40: DA | F40: m3 | G40: 12000 | H40: 6000 | I40: 3 | K40: =+J40*I40 -> 0
B41: - Proctorjev preskus | D41: SIST EN 13286-2:2010/AC:2013 | E41: DA | F41: m3 | G41: 12000 | H41: 6000 | I41: 3 | K41: =+J41*I41 -> 0
B42: - vlažnost (zemljine) | D42: SIST EN ISO 17892-1:2015 in SIST EN 1097-5:2008 | E42: DA | F42: m3 | G42: 12000 | H42: 6000 | I42: 3 | K42: =+J42*I42 -> 0
B43: - delež humoznih primesi | D43: SIST EN 1744-1:2010+A1:2013, T15.1 | E43: DA | F43: m3 | G43: 12000 | H43: 6000 | I43: 3 | K43: =+J43*I43 -> 0
B44: - konsistenčne meje vezljivih zemljin | D44: SIST EN ISO 17892-12:2018 | E44: DA | F44: m3 | G44: 12000 | H44: 10000 | I44: 1 | K44: =+J44*I44 -> 0
A45: 4.2.4. | B45: Vmesna in končna poročila z vrednotenjem NKK | D45: po projektnih zahtevah in PTP | E45: - | F45: kom | G45: 1 | H45: 1/objekt | I45: 3 | K45: =+J45*I45 -> 0
A46: 4.2.5 | B46: Končno poročilo za zemljska dela za objekt z vrednotenjem NKK | D46: po projektnih zahtevah in PTP | E46: - | F46: kom | G46: 1 | H46: 1/objekt | I46: 1 | K46: =+J46*I46 -> 0
F47: SKUPAJ: | G47: =+A19 -> 4.2 ZEMELJSKA DELA IN TEMELJENJE | K47: =SUM(K22:K46) -> 0
A49: 4.3 ARMATURNA JEKLA
A51: Zap. štev. | B51: Predmet kontrole | C51: Vrsta preiskav | D51: Metoda preiskave | E51: Akreditacija DA/NE | F51: Obseg del | H51: Zunanja kontrola | J51: Vrednost (EUR)
F52: enota mere | G52: količina | H52: na enoto | I52: število | J52: C/E v EUR | K52: skupaj
A53: 4.3.1 | B53: Armaturna jekla
B54: Armaturne palice (Rm, Re, Rm/Re, Agt, upogib, dimenzijska kontrola, geometrijska kontrola, kemijska analiza) | D54: SIST EN ISO 15630-1:2011 | E54: DA | F54: kg | G54: 6298000 | I54: 120 | K54: =+J54*I54 -> 0
B55: Armaturne mreže (Rm, Re, Agt, upogib, dimenzijska kontrola, geometrijska kontrola) | D55: SIST EN ISO 15630-2:2011 | E55: DA | F55: kg | I55: 10 | K55: =+J55*I55 -> 0
B56: Meritve s profometrom | I56: 20 | K56: =+J56*I56 -> 0
A57: 4.3.2. | B57: Vmesna poročila z vrednotenjem NKK | D57: po projektnih zahtevah in PTP | E57: - | F57: kos | I57: 5 | K57: =+J57*I57 -> 0
A58: 4.3.3. | B58: Končno poročilo za armiraška dela za objekt z vrednotenjem NKK | D58: po projektnih zahtevah in PTP | E58: - | F58: kos | I58: 1 | K58: =+J58*I58 -> 0
F59: SKUPAJ: | G59: =+A49 -> 4.3 ARMATURNA JEKLA | K59: =SUM(K54:K58) -> 0
A62: 4.4 KOVINSKE KONSTRUKCIJE
A64: Zap. štev. | B64: Predmet kontrole | C64: Vrsta preiskav | D64: Metoda preiskave | E64: Akreditacija DA/NE | F64: Obseg del | H64: Zunanja kontrola | J64: Vrednost (EUR)
F65: enota mere | G65: količina | H65: na enoto | I65: število | J65: C/E v EUR | K65: skupaj
A66: 4.4.1 | B66: Kovinske konstrukcije
B67: skladnost izvedbe s projektom | D67: SIST EN ISO 1461:2009 | E67: NE | F67: kg | G67: 7300 | I67: 1 | K67: =+J67*I67 -> 0
B68: preskusi materialov | I68: 1 | K68: =+J68*I68 -> 0
B69: kontrola zvarov in vijačenja | I69: 1 | K69: =+J69*I69 -> 0
B70: kontrola protikorozijske zaščite | I70: 1 | K70: =+J70*I70 -> 0
A71: 4.4.2. | B71: Vmesna in končna poročila z vrednotenjem NKK | D71: po projektnih zahtevah in PTP | E71: - | F71: kos | I71: 1 | K71: =+J71*I71 -> 0
A72: 4.4.3. | B72: Končno poročilo za zemljska dela za objekt z vrednotenjem NKK | D72: po projektnih zahtevah in PTP | E72: - | F72: kos | I72: 1 | K72: =+J72*I72 -> 0
F73: SKUPAJ: | G73: =+A62 -> 4.4 KOVINSKE KONSTRUKCIJE | K73: =SUM(K67:K72) -> 0
A75: 4.5 HIDROIZOLACIJSKA DELA (PVC mebrana)
A77: Zap. štev. | B77: Predmet kontrole | C77: Vrsta preiskav | D77: Metoda preiskave | E77: Akreditacija DA/NE | F77: Obseg del | H77: Zunanja kontrola | J77: Vrednost (EUR)
F78: enota mere | G78: količina | H78: na enoto | I78: število | J78: C/E v EUR | K78: skupaj
A79: 4.5.1. | B79: PVC membrana | F79: m2 | G79: 7500
B80: Predgled dokazne dokumentacije | D80: po projektnih zahtevah in PTP | E80: - | I80: 5 | K80: =+J80*I80 -> 0
B81: Debelina | D81: SIST EN 1849-2 | E81: NE | I81: 5 | K81: =+J81*I81 -> 0
B82: Natezne karakteristike | D82: SIST EN 527-3 | E82: NE | I82: 5 | K82: =+J82*I82 -> 0
B83: Odpornost na nadaljne trganje | D83: ISO 34-1 | E83: NE | I83: 5 | K83: =+J83*I83 -> 0
B84: Dimenzijska stabilnost | D84: SIST EN 1107-2 | E84: NE | I84: 5 | K84: =+J84*I84 -> 0
B85: Preskus zvara | D85: SIST EN 527-3 | E85: NE | I85: 5 | K85: =+J85*I85 -> 0
F86: SKUPAJ: | G86: =+A75 -> 4.5 HIDROIZOLACIJSKA DELA (PVC mebrana) | K86: =SUM(K79:K85) -> 0
A88: 4.6. | B88: GEOTEKSTIL
A90: Zap. štev. | B90: Predmet kontrole | C90: Vrsta preiskav | D90: Metoda preiskave | E90: Akreditacija DA/NE | F90: Obseg del | H90: Zunanja kontrola | J90: Vrednost (EUR)
F91: enota mere | G91: količina | H91: na enoto | I91: število | J91: C/E v EUR | K91: skupaj
A92: 4.6.1. | B92: Filtrni geosintetik
B93: - pregled tehnicne dokumentacije izbranega geotekstila in rezultatov tekoče kontrole | D93: po projektnih zahtevah in PTP, SIST EN 13254 | E93: - | F93: št. tipov | G93: 2 | H93: 1/tip | I93: 2 | K93: =+J93*I93 -> 0
B94: - natezna porušna trdnost, maksimalni raztezek | D94: SIST EN ISO 10319 | E94: NE | F94: m2 | G94: 2 | H94: 1/tip | I94: 2 | K94: =+J94*I94 -> 0
B95: - dinamični prebod | D95: SIST EN ISO 13433 | E95: NE | F95: m2 | G95: 2 | H95: 1/tip | I95: 2 | K95: =+J95*I95 -> 0
B96: - prebodna trdnost (CBR) | D96: SIST EN ISO 12236 | E96: NE | F96: m2 | G96: 2 | H96: 1/tip | I96: 2 | K96: =+J96*I96 -> 0
B97: - koeficient vodoprepustnosti | D97: SIST EN ISO 11058:2019 | E97: DA | F97: m2 | G97: 2 | H97: 1/tip | I97: 2 | K97: =+J97*I97 -> 0
B98: - vertikalni vodni tok pod obremenitvijo | D98: SIST EN ISO 10776 | E98: NE | F98: m2 | G98: 2 | H98: 1/tip | I98: 2 | K98: =+J98*I98 -> 0
B99: - hidravlična prevodnost sistema zemljina-geotekstil | D99: ASTM D5567 | E99: NE | F99: m2 | G99: 2 | H99: 1/tip | I99: 2 | K99: =+J99*I99 -> 0
B100: - efektivna poroznost | D100: SIST EN ISO 12956 | F100: m2 | G100: 2 | H100: 1/tip | I100: 2 | K100: =+J100*I100 -> 0
B101: - debelina | D101: SIST EN ISO 9863-1 | E101: NE | F101: m2 | G101: 2 | H101: 1/tip | I101: 2 | K101: =+J101*I101 -> 0
A102: 4.6.2. | B102: Vmesna in končna poročila z vrednotenjem NKK | D102: po projektnih zahtevah in PTP | E102: - | F102: kos | I102: 1 | K102: =+J102*I102 -> 0
A103: 4.6.3. | B103: Končno poročilo za zemljska dela za objekt z vrednotenjem NKK | D103: po projektnih zahtevah in PTP | E103: - | F103: kos | I103: 1 | K103: =+J103*I103 -> 0
F104: SKUPAJ: | G104: 4.6. GEOTEKSTIL | K104: =SUM(K94:K103) -> 0
A106: 4.7 KONTROLA VAROVANJA IN ZAŠČITE GRADBENE JAME - DEBELOSTENSKA DIAFRAGMA
A108: Zap. štev. | B108: Predmet kontrole | C108: Vrsta preiskav | D108: Metoda preiskave | E108: Akreditacija DA/NE | F108: Obseg del | H108: Zunanja kontrola | J108: Vrednost (EUR)
F109: enota mere | G109: količina | H109: na enoto | I109: število | J109: C/E v EUR | K109: skupaj
A110: 4.7.1 | B110: Obodna stena gradbene jame
B111: - geološka-geomehanska spremljava izkopanvanja s popisom sestave tal | D111: SIST EN 12716, po projektnih zahtevah in PTP | E111: NE | F111: m3 | G111: 9000 | I111: 30 | K111: =+J111*I111 -> 0
A112: 4.7.2. | B112: Vmesna in končna poročila z vrednotenjem NKK | D112: po projektnih zahtevah in PTP | E112: - | I112: 2 | K112: =+J112*I112 -> 0
A113: 4.7.3. | B113: Končno poročilo za zemljska dela za objekt z vrednotenjem NKK | D113: po projektnih zahtevah in PTP | E113: - | I113: 1 | K113: =+J113*I113 -> 0
F114: SKUPAJ: | G114: =+A106 -> 4.7 KONTROLA VAROVANJA IN ZAŠČITE GRADBENE JAME - DEBELOSTENSKA DIAFRAGMA | K114: =SUM(K111:K112) -> 0
A116: 4.8 DRENAŽNE CEVI
A118: Zap. štev. | B118: Predmet kontrole | C118: Vrsta preiskav | D118: Metoda preiskave | E118: Akreditacija DA/NE | F118: Obseg del | H118: Zunanja kontrola | J118: Vrednost (EUR)
F119: enota mere | G119: količina | H119: na enoto | I119: število | J119: C/E v EUR | K119: skupaj
A120: 4.8.1 | B120: Polimerne drenažne cevi
...

Sheet 5_HALA NAD SILOSOM
A1: IZGRADNJA ODLAGALIŠČA NIZKO- IN SREDNJERADIOAKTIVNIH ODPADKOV (NSRAO) VRBINA, KRŠKO
A2: Program dela Zunanje kontrole kvalitete (ZKK)
A5: 5 | B5: HALA NAD SILOSOM
A8: 5.1 PREGLED TEHNOLOŠKIH ELABORATOV
A10: Zap. štev. | B10: Predmet kontrole | C10: Vrsta preiskav | D10: Metoda preiskave | E10: Akreditacija DA/NE | F10: Obseg del | H10: Zunanja kontrola | J10: Vrednost (EUR)
F11: enota mere | G11: količina | H11: na enoto | I11: število | J11: C/E v EUR | K11: skupaj
A12: 5.1.1. | B12: Tehnološki elaborati za zemeljska dela in stabilizacijo temeljnih tal | D12: po projektnih zahtevah in PTP | E12: - | F12: kom | G12: 1 | H12: 1/kom | I12: 1 | K12: =+I12*J12 -> 0
A13: 5.1.2. | B13: Tehnološki elaborati betonerskih del, opaži, armatura | D13: po projektnih zahtevah in PTP | E13: - | F13: kom | G13: 1 | H13: 1/kom | I13: 1 | K13: =+I13*J13 -> 0
A14: 5.1.3. | B14: Tehnološki elaborat obrtniških del | D14: po projektnih zahtevah in PTP | E14: - | F14: kom | G14: 1 | H14: 1/kom | I14: 1 | K14: =+I14*J14 -> 0
F15: SKUPAJ: | G15: =+A8 -> 5.1 PREGLED TEHNOLOŠKIH ELABORATOV | K15: =SUM(K12:K13) -> 0
A18: 5.2 ZEMELJSKA DELA IN TEMELJENJE:
A20: 5.2.1 | B20: Temeljna tla
B21: Pregledi temeljnih tal in brežin (ogledi terena in temeljnih tal, kontrola pri vgrajevanju, pregledi tal pod temelji objektov (plitvo) | D21: po projektnih zahtevah, PTP, Evrokod 7 | E21: - | F21: št.objektov | G21: - | H21: 2-3/obj. | I21: 20 | K21: =+I21*J21 -> 0
A22: 5.2.2 | B22: Temeljna tla mehansko utrjena-TTMU | K22: =+I22*J22 -> 0
B23: - gostota in vlažnost (z izotopsko sondo) | D23: TSC 06.711 | E23: DA | F23: m2 | G23: 7350 | H23: 200 | I23: 40 | K23: =+I23*J23 -> 0
B24: - dinamični deformacijski modul - Evd | D24: TSC 06.720 | E24: DA | F24: m2 | G24: 7350 | H24: 400 | I24: 20 | K24: =+I24*J24 -> 0
B25: - statični deformacijski modul - Ev2 | D25: TSC 06.720 | E25: DA | F25: m2 | G25: 7350 | H25: 2000 | I25: 4 | K25: =+I25*J25 -> 0
B26: - zrnavost (kamniti materiali) | D26: SIST EN 933-1:2012 | E26: DA | F26: m2 | G26: 7350 | H26: 10000 | I26: 4 | K26: =+I26*J26 -> 0
B27: - Proctorjev preskus | D27: SIST EN 13286-2:2010/AC:2013 | E27: DA | F27: m2 | G27: 7350 | H27: 10000 | I27: 4 | K27: =+I27*J27 -> 0
B28: - vlažnost (zemljine) | D28: SIST EN ISO 17892-1:2015 in SIST EN 1097-5:2008 | E28: DA | F28: m2 | G28: 7350 | H28: 10000 | I28: 4 | K28: =+I28*J28 -> 0
B29: - delež humoznih primesi | D29: SIST EN 1744-1:2010+A1:2013, T15.1 | E29: DA | F29: m2 | G29: 7350 | H29: 10000 | I29: 4 | K29: =+I29*J29 -> 0
B30: - konsistenčne meje vezljivih zemljin | D30: SIST EN ISO 17892-12:2018 | E30: DA | F30: m2 | G30: 7350 | H30: 10000 | I30: 2 | K30: =+I30*J30 -> 0
A31: 5.2.3. | B31: Vmesno poročilo z vrednotenjem rezulatov NKK | D31: po projektnih zahtevah in PTP | E31: - | F31: št. | H31: 1/sklop | I31: 2 | K31: =+I31*J31 -> 0
A32: 5.2.4 | B32: Končno poročilo za zemljska dela za objekt z vrednotenjem NKK | D32: po projektnih zahtevah in PTP | E32: - | F32: kom | G32: 1 | H32: 1/objekt | I32: 1 | K32: =+I32*J32 -> 0
F33: SKUPAJ: | G33: =+A18 -> 5.2 ZEMELJSKA DELA IN TEMELJENJE: | K33: =SUM(K21:K32) -> 0
A35: 5.3 ARMATURNA JEKLA
A37: Zap. štev. | B37: Predmet kontrole | C37: Vrsta preiskav | D37: Metoda preiskave | E37: Akreditacija DA/NE | F37: Obseg del | H37: Zunanja kontrola | J37: Vrednost (EUR)
F38: enota mere | G38: količina | H38: na enoto | I38: število | J38: C/E v EUR | K38: skupaj
A39: 5.3.1 | B39: Armaturna jekla
B40: Armaturne palice (Rm, Re, Rm/Re, Agt, upogib, dimenzijska kontrola, geometrijska kontrola, kemijska analiza) | D40: SIST EN ISO 15630-1:2011 | E40: DA | F40: kg | G40: 213800 | I40: 4 | K40: =+I40*J40 -> 0
B41: Armaturne mreže (Rm, Re, Agt, upogib, dimenzijska kontrola, geometrijska kontrola) | D41: SIST EN ISO 15630-2:2011 | E41: DA | F41: kg | I41: 1 | K41: =+I41*J41 -> 0
A42: 5.3.2 | B42: Vmesna poročila o izvedenih pregledih | D42: po projektnih zahtevah in PTP | E42: - | F42: kos | K42: =+I42*J42 -> 0
A43: 5.3.3 | B43: Končna ocena s pregledom rezultatov notranje kontrole | D43: po projektnih zahtevah in PTP | E43: - | F43: kos | I43: 1 | K43: =+I43*J43 -> 0
F44: SKUPAJ: | G44: =+A35 -> 5.3 ARMATURNA JEKLA | K44: =SUM(K40:K43) -> 0
A47: 5.4 KOVINSKE KONSTRUKCIJE
A49: Zap. štev. | B49: Predmet kontrole | C49: Vrsta preiskav | D49: Metoda preiskave | E49: Akreditacija DA/NE | F49: Obseg del | H49: Zunanja kontrola | J49: Vrednost (EUR)
F50: enota mere | G50: količina | H50: na enoto | I50: število | J50: C/E v EUR | K50: skupaj
A51: 5.4.1 | B51: Kovinske konstrukcije
B52: skladnost izvedbe s projektom | E52: NE | F52: kg | G52: 354720 | I52: 5 | K52: =+I52*J52 -> 0
B53: preskusi materialov | I53: 5 | K53: =+I53*J53 -> 0
B54: kontrola zvarov in vijačenja | I54: 5 | K54: =+I54*J54 -> 0
B55: kontrola protikorozijske zaščite | I55: 5 | K55: =+I55*J55 -> 0
A56: 5.4.2 | B56: Vmesna poročila o izvedenih pregledih | D56: po projektnih zahtevah in PTP | E56: - | F56: kos | K56: =+I56*J56 -> 0
A57: 5.4.3 | B57: Končna ocena s pregledom rezultatov notranje kontrole | D57: po projektnih zahtevah in PTP | E57: - | F57: kos | I57: 1 | K57: =+I57*J57 -> 0
F58: SKUPAJ: | G58: =+A47 -> 5.4 KOVINSKE KONSTRUKCIJE | K58: =SUM(K52:K57) -> 0
A60: 5.5. EPOKSIDNI TLAKI
A62: Zap. štev. | B62: Predmet kontrole | C62: Vrsta preiskav | D62: Metoda preiskave | E62: Akreditacija DA/NE | F62: Obseg del | H62: Zunanja kontrola | J62: Vrednost (EUR)
F63: enota mere | G63: količina | H63: na enoto | I63: število | J63: C/E v EUR | K63: skupaj
A64: 5.5.1. | B64: Meritve odtržne trdnosti | D64: SIST EN 1542 | E64: NE | I64: 3 | K64: =+I64*J64 -> 0
F65: SKUPAJ: | G65: =+A60 -> 5.5. EPOKSIDNI TLAKI | K65: =SUM(K64:K64) -> 0
A68: 5.6 BETONSKA DELA
C69: Nearmirani betoni: | E69: 177 | F69: m3
C70: Armirani betoni: | E70: 1300 | F70: m3
A72: Zap. štev. | B72: Predmet kontrole | C72: Vrsta preiskav | D72: Metoda preiskave | E72: Akreditacija DA/NE | F72: Obseg del | H72: Zunanja kontrola | J72: Vrednost (EUR)
F73: enota mere | G73: količina | H73: na enoto | I73: število | J73: C/E v EUR | K73: skupaj
A74: 5.6.1 | B74: Pregled dokumentacije, verifikacije in kontrole
A75: 5.6.1.1 | B75: Pregled dokumentacije, tehnoekonomskih elaboratov izvajalca in podajanje pisnih mnenj. Pregled in potrditev PIBK. | D75: po projektnih zahtevah in PTP in SIST EN 13670 | E75: - | F75: kos | H75: 1/kos | I75: 1 | K75: =+I75*J75 -> 0
A76: 5.6.1.2 | B76: Verifikacija tehničnih postopkov vgrajevanja vidnih betonov - pregled in ocena poskusnih polj, prvo betoniranje | D76: po projektnih zahtevah in PTP | E76: - | F76: kom | H76: 1/kom | I76: 1 | K76: =+I76*J76 -> 0
A77: 5.6.1.3 | B77: Kontrola strokovnjaka za vidne betone (ogled testnih polj, opaži in vgradnja betona) | D77: po projektnih zahtevah in PTP | E77: - | F77: inž.dan | H77: inž.dan / obisk | I77: 2 | K77: =+I77*J77 -> 0
A78: 5.6.2 | B78: Sveži beton - odvzem vzorca
A79: 5.6.2.1 | B79: Obisk laboranta in odvzem vzorcev - vzorčenje | D79: SIST EN 12350-1 | E79: DA | H79: laborant dan / obisk | I79: 15 | K79: =+I79*J79 -> 0
A80: 5.6.2.2 | B80: Konsistenca (posed) | D80: SIST EN 12350-2 | E80: DA | H80: test / preskus | I80: 15 | K80: =+I80*J80 -> 0
A81: 5.6.2.3 | B81: vodocementno razmerje | D81: SIST1026 dodatek NC | E81: DA | H81: test / preskus | I81: 5 | K81: =+I81*J81 -> 0
A82: 5.6.2.4 | B82: Gostota svežega betona | D82: SIST EN 12350-6 | E82: DA | H82: test / preskus | I82: 5 | K82: =+I82*J82 -> 0
A83: 5.6.3 | B83: Strjeni beton
A84: 5.6.3.1 | B84: Tlačna trdnost 28 dni | D84: SIST 12390-3 | E84: DA | H84: test / preskus | I84: 10 | K84: =+I84*J84 -> 0
A85: 5.6.3.2 | B85: Globina vpijanje vode pod pritiskom (test na setu 3 kock) | D85: SIST EN 12390-8 | E85: DA | H85: test / preskus | I85: 2 | K85: =+I85*J85 -> 0
A86: 5.6.3.3 | B86: Notranja odpornost betona proti zmrzovanju/tajanju (NOZT 150 ) | D86: SIST1026 dodatek ND | E86: DA | H86: test / preskus | I86: 1 | K86: =+I86*J86 -> 0
A87: 5.6.3.4 | B87: Odpornost bet. proti zmrzovanju/tajanju ob prisotnosti soli (OPZT S25) | D87: SIST1026 dodatek NE | E87: DA | H87: test / preskus | I87: 1 | K87: =+I87*J87 -> 0
A88: 5.6.3.5 | B88: Odpornost betona proti obrabi | D88: SIST1026 dodatek NF | E88: DA | H88: test / preskus | I88: 1 | K88: =+I88*J88 -> 0
A89: 5.6.4 | B89: Estrihi (brušeni betoni - liti terazzo)
A90: 5.6.4.1 | B90: Obisk laboranta in odvzem vzorcev - vzorčenje | D90: SIST EN 13892-1 | E90: DA | F90: lab.dan | H90: laborant dan / obisk | I90: 1 | K90: =+I90*J90 -> 0
A91: 5.6.4.2 | B91: Upogibna in tlačna trdnost (set 3 prizmic 40x40x160mm) | D91: SIST EN 13892-2 | E91: DA | H91: test / preskus | I91: 1 | K91: =+I91*J91 -> 0
A92: 5.6.5 | B92: Izdelava poročil z oceno izvedenih del | E92: - | K92: =+I92*J92 -> 0
A93: 5.6.5.1 | B93: Vmesna poročila z vrednotenjem NKK | D93: SIST EN 13670 | E93: - | F93: kos | H93: 1/sklop | I93: 2 | K93: =+I93*J93 -> 0
A94: 5.6.5.2 | B94: Končno poročilo za beton s pregledom in vrednotenjem rezultatov NKK | D94: SIST EN 13670 | F94: kos | H94: 1/sklop | I94: 1 | K94: =+I94*J94 -> 0
F95: SKUPAJ: | G95: =+A68 -> 5.6 BETONSKA DELA | K95: =SUM(K75:K94) -> 0
F99: SKUPAJ DVORANA NAD SILOSOM | K99: =+K15+K33+K44+K58+K65+K95 -> 0

Sheet 6_INFRASTRUKTURNE URED._zun.u
A1: IZGRADNJA ODLAGALIŠČA NIZKO- IN SREDNJERADIOAKTIVNIH ODPADKOV (NSRAO) VRBINA, KRŠKO
A2: Program dela Zunanje kontrole kvalitete (ZKK)
A5: 6 | B5: INFRASTRUKTURNA IN ZUNANJA UREDITEV
A8: 6.1 PREGLED TEHNOLOŠKIH ELABORATOV
A10: Zap. štev. | B10: Predmet kontrole | C10: Vrsta preiskav | D10: Metoda preiskave | E10: Akreditacija DA/NE | F10: Obseg del | H10: Zunanja kontrola | J10: Vrednost (EUR)
F11: enota mere | G11: količina | H11: na enoto | I11: število | J11: C/E v EUR | K11: skupaj
A12: 6.1 | B12: Pregled tehnoloških elaboratov z izdelavo poročil:
B13: - izkopi, nasipi, brežine | D13: po projektnih zahtevah in PTP | E13: - | F13: kos | G13: 1 | H13: 1/kos | I13: 1 | K13: =+I13*J13 -> 0
B14: - mehanske lastnosti asfaltnih zmesi | D14: izjava o lastnostih | F14: kos | G14: 1 | I14: 1 | K14: =+I14*J14 -> 0
B15: - ceste, kanalizacija in voziščne konstrukcije | D15: po projektnih zahtevah in PTP | E15: - | F15: kos | G15: 1 | H15: 1/kos | I15: 1 | K15: =+I15*J15 -> 0
F16: SKUPAJ: | G16: =+A8 -> 6.1 PREGLED TEHNOLOŠKIH ELABORATOV | K16: =SUM(K12:K15) -> 0
A19: 6.2 ZEMELJSKA DELA IN TEMELJENJE:
A21: 6.2.1 | B21: Temeljna tla
B22: Pregledi temeljnih tal in brežin (ogledi terena in temeljnih tal, kontrola pri vgrajevanju, pregledi tal pod temelji objektov (plitvo) | D22: po projektnih zahtevah, PTP, Evrokod 7 | E22: - | F22: št.objektov | G22: - | H22: 2-3/obj. | I22: 15 | K22: =+I22*J22 -> 0
A23: 6.2.2 | B23: Temeljna tla mehansko utrjena-TTMU | K23: =+I23*J23 -> 0
B24: - gostota in vlažnost (z izotopsko sondo) | D24: TSC 06.711 | E24: DA | F24: m2 | G24: 23100 | H24: 200 | I24: 80 | K24: =+I24*J24 -> 0
B25: - dinamični deformacijski modul - Evd | D25: TSC 06.720 | E25: DA | F25: m2 | G25: 23100 | H25: 400 | I25: 60 | K25: =+I25*J25 -> 0
B26: - statični deformacijski modul - Ev2 | D26: TSC 06.720 | E26: DA | F26: m2 | G26: 23100 | H26: 2000 | I26: 20 | K26: =+I26*J26 -> 0
B27: - zrnavost (kamniti materiali) | D27: SIST EN 933-1:2012 | E27: DA | F27: m2 | G27: 23100 | H27: 10000 | I27: 10 | K27: =+I27*J27 -> 0
B28: - Proctorjev preskus | D28: SIST EN 13286-2:2010/AC:2013 | E28: DA | F28: m2 | G28: 23100 | H28: 10000 | I28: 5 | K28: =+I28*J28 -> 0
B29: - vlažnost (zemljine) | D29: SIST EN ISO 17892-1:2015 in SIST EN 1097-5:2008 | E29: DA | F29: m2 | G29: 23100 | H29: 10000 | I29: 10 | K29: =+I29*J29 -> 0
B30: - delež humoznih primesi | D30: SIST EN 1744-1:2010+A1:2013, T15.1 | E30: DA | F30: m2 | G30: 23100 | H30: 10000 | I30: 5 | K30: =+I30*J30 -> 0
B31: - konsistenčne meje vezljivih zemljin | D31: SIST EN ISO 17892-12:2018 | E31: DA | F31: m2 | G31: 23100 | H31: 10000 | I31: 3 | K31: =+I31*J31 -> 0
A32: 6.2.3 | B32: Drenažne in filtrske plasti, nasipi, zasipi, klini, posteljica in tampon
B33: Kontrola vgrajevanja
B34: - kontrola izvajanja CCC, vgradnje, materialov in debeline plasti | D34: po projektnih zahtevah, PTP | E34: NE | F34: m3 | G34: 7600 | H34: 400 | I34: 20 | K34: =+I34*J34 -> 0
B35: Nasipi, zasipi, kanalizacija, plato gradbišča
B36: - gostota in vlažnost (z izotopsko sondo) | D36: TSC 06.711 | E36: DA | F36: m3 | G36: 7600 | H36: 400 | I36: 20 | K36: =+I36*J36 -> 0
B37: - dinamični deformacijski modul - Evd | D37: TSC 06.720 | E37: DA | F37: m3 | G37: 7600 | H37: 400 | I37: 20 | K37: =+I37*J37 -> 0
B38: - statični deformacijski modul - Ev2 | D38: TSC 06.720 | E38: DA | F38: m3 | G38: 7600 | H38: 800 | I38: 10 | K38: =+I38*J38 -> 0
B39: - zrnavost (kamniti materiali) | D39: SIST EN 933-1:2012 | E39: DA | F39: m3 | G39: 7600 | H39: 1500 | I39: 5 | K39: =+I39*J39 -> 0
B40: - Proctorjev preskus | D40: SIST EN 13286-2:2010/AC:2013 | E40: DA | F40: m3 | G40: 7600 | H40: 1500 | I40: 5 | K40: =+I40*J40 -> 0
B41: - vlažnost (zemljine) | D41: SIST EN ISO 17892-1:2015 in SIST EN 1097-5:2008 | E41: DA | F41: m3 | G41: 7600 | H41: 1500 | I41: 5 | K41: =+I41*J41 -> 0
B42: - delež humoznih primesi | D42: SIST EN 1744-1:2010+A1:2013, T15.1 | E42: DA | F42: m3 | G42: 7600 | H42: 1500 | I42: 5 | K42: =+I42*J42 -> 0
B43: - konsistenčne meje vezljivih zemljin | D43: SIST EN ISO 17892-12:2018 | E43: DA | F43: m3 | G43: 7600 | H43: 5000 | I43: 2 | K43: =+I43*J43 -> 0
A44: 6.2.4 | B44: Kamnita posteljica (PO; TSC 06.100:2003)
B45: - gostota in vlažnost (z izotopsko sondo) | D45: TSC 06.711 | E45: DA | F45: m3 | G45: 7350 | H45: 400 | I45: 20 | K45: =+I45*J45 -> 0
B46: - dinamični deformacijski modul - Evd | D46: TSC 06.720 | E46: DA | F46: m3 | G46: 7350 | H46: 400 | I46: 20 | K46: =+I46*J46 -> 0
B47: - statični deformacijski modul - Ev2 | D47: TSC 06.720 | E47: DA | F47: m3 | G47: 7350 | H47: 1500 | I47: 5 | K47: =+I47*J47 -> 0
B48: - zrnavost (kamniti materiali) | D48: SIST EN 933-1:2012 | E48: DA | F48: m3 | G48: 7350 | H48: 1500 | I48: 3 | K48: =+I48*J48 -> 0
B49: - Proctorjev preskus | D49: SIST EN 13286-2:2010/AC:2013 | E49: DA | F49: m3 | G49: 7350 | H49: 1500 | I49: 3 | K49: =+I49*J49 -> 0
B50: - vlažnost (zemljine) | D50: SIST EN ISO 17892-1:2015 in SIST EN 1097-5:2008 | E50: DA | F50: m3 | G50: 7350 | H50: 1500 | I50: 3 | K50: =+I50*J50 -> 0
B51: - delež humoznih primesi | D51: SIST EN 1744-1:2010+A1:2013, T15.1 | E51: DA | F51: m3 | G51: 7350 | H51: 1500 | I51: 3 | K51: =+I51*J51 -> 0
A52: 6.2.5 | B52: Kamnita posteljica (PO; TSC 06.100:2003) | K52: =+I52*J52 -> 0
B53: - gostota in vlažnost (z izotopsko sondo) | D53: TSC 06.711 | E53: DA | F53: m3 | G53: 7350 | H53: 400 | I53: 20 | K53: =+I53*J53 -> 0
B54: - dinamični deformacijski modul - Evd | D54: TSC 06.720 | E54: DA | F54: m3 | G54: 7350 | H54: 400 | I54: 20 | K54: =+I54*J54 -> 0
B55: - statični deformacijski modul - Ev2 | D55: TSC 06.720 | E55: DA | F55: m3 | G55: 7350 | H55: 1500 | I55: 5 | K55: =+I55*J55 -> 0
B56: - zrnavost (kamniti materiali) | D56: SIST EN 933-1:2012 | E56: DA | F56: m3 | G56: 7350 | H56: 1500 | I56: 3 | K56: =+I56*J56 -> 0
B57: - Proctorjev preskus | D57: SIST EN 13286-2:2010/AC:2013 | E57: DA | F57: m3 | G57: 7350 | H57: 1500 | I57: 3 | K57: =+I57*J57 -> 0
B58: - vlažnost (zemljine) | D58: SIST EN ISO 17892-1:2015 in SIST EN 1097-5:2008 | E58: DA | F58: m3 | G58: 7350 | H58: 1500 | I58: 3 | K58: =+I58*J58 -> 0
B59: - delež humoznih primesi | D59: SIST EN 1744-1:2010+A1:2013, T15.1 | E59: DA | F59: m3 | G59: 7350 | H59: 1500 | I59: 3 | K59: =+I59*J59 -> 0
B60: - kakovost finih delcev (SE ali MB), če je delež pod 0,063 mm večji od 3% | D60: SIST EN 933-8 | E60: DA | F60: m3 | G60: 7350 | H60: 1500 | I60: 3 | K60: =+I60*J60 -> 0
A61: 6.2.6 | B61: Vmesno poročilo z vrednotenjem rezulatov NKK | D61: po projektnih zahtevah in PTP | E61: - | F61: št. | G61: 4 | H61: 1/sklop | I61: 4 | K61: =+I61*J61 -> 0
A62: 6.2.7 | B62: Končno poročilo za zemljska dela za objekt z vrednotenjem NKK | D62: po projektnih zahtevah in PTP | E62: - | F62: kom | G62: 4 | H62: 1/objekt | I62: 1 | K62: =+I62*J62 -> 0
F63: SKUPAJ: | G63: =+A19 -> 6.2 ZEMELJSKA DELA IN TEMELJENJE: | K63: =SUM(K22:K62) -> 0
A65: 6.3 ARMATURNA JEKLA
A67: Zap. štev. | B67: Predmet kontrole | C67: Vrsta preiskav | D67: Metoda preiskave | E67: Akreditacija DA/NE | F67: Obseg del | H67: Zunanja kontrola | J67: Vrednost (EUR)
F68: enota mere | G68: količina | H68: na enoto | I68: število | J68: C/E v EUR | K68: skupaj
A69: 6.3.1 | B69: Armaturna jekla
B70: Armaturne palice (Rm, Re, Rm/Re, Agt, upogib, dimenzijska kontrola, geometrijska kontrola, kemijska analiza) | D70: SIST EN ISO 15630-1:2011 | E70: DA | F70: kg | G70: 52300 | I70: 1 | K70: =+I70*J70 -> 0
B71: Armaturne mreže (Rm, Re, Agt, upogib, dimenzijska kontrola, geometrijska kontrola) | D71: SIST EN ISO 15630-2:2011 | E71: DA | F71: kg | I71: 1 | K71: =+I71*J71 -> 0
A72: 6.3.2 | B72: Vmesna poročila o izvedenih pregledih | D72: po projektnih zahtevah in PTP | E72: - | F72: kos | G72: 2
A73: 6.3.3 | B73: Končna ocena s pregledom rezultatov notranje kontrole | D73: po projektnih zahtevah in PTP | E73: - | F73: kos | G73: 2 | I73: 1 | K73: =+I73*J73 -> 0
F74: SKUPAJ: | G74: =+A65 -> 6.3 ARMATURNA JEKLA | K74: =SUM(K70:K73) -> 0
A77: 6.4 KOVINSKE KONSTRUKCIJE
A79: Zap. štev. | B79: Predmet kontrole | C79: Vrsta preiskav | D79: Metoda preiskave | E79: Akreditacija DA/NE | F79: Obseg del | H79: Zunanja kontrola | J79: Vrednost (EUR)
F80: enota mere | G80: količina | H80: na enoto | I80: število | J80: C/E v EUR | K80: skupaj
A81: 6.4.1 | B81: Kovinske konstrukcije
B82: skladnost izvedbe s projektom | E82: NE | F82: kg | G82: 1300 | I82: 1 | K82: =+I82*J82 -> 0
B83: preskusi materialov | I83: 1 | K83: =+I83*J83 -> 0
B84: kontrola zvarov in vijačenja | I84: 1 | K84: =+I84*J84 -> 0
B85: kontrola protikorozijske zaščite | I85: 1 | K85: =+I85*J85 -> 0
A86: 6.4.2 | B86: Vmesna poročila o izvedenih pregledih | D86: po projektnih zahtevah in PTP | E86: - | F86: kos
A87: 6.4.3 | B87: Končna ocena s pregledom rezultatov notranje kontrole | D87: po projektnih zahtevah in PTP | E87: - | F87: kos | I87: 1 | K87: =+I87*J87 -> 0
F88: SKUPAJ: | G88: =+A77 -> 6.4 KOVINSKE KONSTRUKCIJE | K88: =SUM(K82:K87) -> 0
A90: 6.5. HIDROIZOLACIJSKA DELA (trakovi - črpališče, EK jaški)
A93: Zap. štev. | B93: Predmet kontrole | C93: Vrsta preiskav | D93: Metoda preiskave | E93: Akreditacija DA/NE | F93: Obseg del | H93: Zunanja kontrola | J93: Vrednost (EUR)
F94: enota mere | G94: količina | H94: na enoto | I94: število | J94: C/E v EUR | K94: skupaj
A95: 6.5.1 | B95: HI trakovi
B96: Pregled tehnoloških elab. z izdelavo poročil: | D96: po projektnih zahtevah in PTP | E96: - | F96: m2 | G96: 200 | I96: 1 | K96: =+I96*J96 -> 0
B97: Kontrola izvedbe na terenu | D97: po projektnih zahtevah | E97: - | I97: 1 | K97: =+I97*J97 -> 0
F98: SKUPAJ: | G98: =+A90 -> 6.5. HIDROIZOLACIJSKA DELA (trakovi - črpališče, EK jaški) | K98: =SUM(K95:K97) -> 0
A101: 6.6. | B101: GEOTEKSTIL
A103: Zap. štev. | B103: Predmet kontrole | C103: Vrsta preiskav | D103: Metoda preiskave | E103: Akreditacija DA/NE | F103: Obseg del | H103: Zunanja kontrola | J103: Vrednost (EUR)
F104: enota mere | G104: količina | H104: na enoto | I104: število | J104: C/E v EUR | K104: skupaj
A105: 6.6.1. | B105: Ločilni geosintetik
B106: - pregled tehnicne dokumentacije izbranega geotekstila in rezultatov tekoče kontrole | D106: po projektnih zahtevah in PTP, SIST EN 13254 | E106: - | F106: št. tipov | G106: 1 | H106: 1/tip | I106: 1 | K106: =+J106*I106 -> 0
B107: - natezna porušna trdnost, maksimalni raztezek | D107: SIST EN ISO 10319 | E107: NE | F107: m2 | G107: 1 | H107: 1/tip | I107: 1 | K107: =+J107*I107 -> 0
B108: - koeficient vodoprepustnosti | D108: SIST EN ISO 11058:2019 | E108: DA | F108: m2 | G108: 1 | H108: 1/tip | I108: 1 | K108: =+J108*I108 -> 0
B109: - efektivna poroznost | D109: SIST EN ISO 12956 | E109: NE | F109: m2 | G109: 1 | H109: 1/tip | I109: 1 | K109: =+J109*I109 -> 0
B110: - debelina | D110: SIST EN ISO 9863-1 | E110: NE | F110: m2 | G110: 1 | H110: 1/tip | I110: 1 | K110: =+J110*I110 -> 0
A111: 6.6.2. | B111: Končna ocena s pregledom rezultatov notranje kotnrole | D111: po projektnih zahtevah in PTP | E111: - | F111: kos | I111: 1 | K111: =+J111*I111 -> 0
F112: SKUPAJ: | G112: =+A103 -> Zap. štev. | K112: =SUM(K107:K111) -> 0
A115: 6.7 ASFALTERSKA DELA
A118: Zap. štev. | B118: Predmet kontrole | C118: Vrsta preiskav | D118: Metoda preiskave | E118: Akreditacija DA/NE | F118: Obseg del | H118: Zunanja kontrola | J118: Vrednost (EUR)
F119: enota mere | G119: količina | H119: na enoto | I119: število | J119: C/E v EUR | K119: skupaj
A120: 6.7.1. | B120: Nosilni sloj | F120: m2 | G120: 9000
B121: preiskave vhodnega bitumna
B122: - zmehčišče po PK in penetracija, indeks penetracije | D122: SIST (EN 1427 + EN 1426 + EN 12591) | E122: da | F122: m2 | G122: 9000 | H122: 9000 | I122: 1 | K122: =+J122*I122 -> 0
B123: - pretrgališče po Fraassu | D123: SIST EN 12593 | E123: da | F123: m2 | G123: 9000 | H123: 9000 | I123: 1 | K123: =+J123*I123 -> 0
...

Sheet 7_PORTALNO DVIGALO
A1: IZGRADNJA ODLAGALIŠČA NIZKO- IN SREDNJERADIOAKTIVNIH ODPADKOV (NSRAO) VRBINA, KRŠKO
A2: Program dela Zunanje kontrole kvalitete (ZKK)
A5: 7 | B5: PORTALNO DVIGALO
A8: 7.1 PREGLED TEHNOLOŠKIH ELABORATOV elektro in strojna stroka
A10: Zap. štev. | B10: Predmet kontrole | C10: Vrsta preiskav | D10: Metoda preiskave | E10: Akreditacija DA/NE | F10: Obseg del | H10: Zunanja kontrola | J10: Vrednost (EUR)
F11: enota mere | G11: količina | H11: na enoto | I11: število | J11: C/E v EUR | K11: skupaj
A12: 7.1.1 | B12: Pregled tehnoloških elaboratov z izdelavo poročil:
B13: - pregled izvedbene projektne dokumentacije in delavniških načrtov z oceno doseganja projektno predvidenih parametrov in izdelavo poročila o pregledu | D13: po projektnih zahtevah in PTP | E13: - | F13: kpl | G13: 2 | K13: =G13*J13 -> 0
F14: SKUPAJ: | G14: =+A8 -> 7.1 PREGLED TEHNOLOŠKIH ELABORATOV elektro in strojna stroka | K14: =SUM(K12:K13) -> 0
A17: 7.2 KONTROLA KVALITETE PROIZVODNJE
A19: 7.2.1. | B19: Proizvodnja portalnega dvigala, elektro stroka ( E ) - na lokaciji dobavitelja
A20: 7.2.1.1. | B20: - pregled zasnove sistemov vodenja in obratovanja dvigala | D20: po projektnih zahtevah, PTP, | E20: - | F20: kpl | G20: 1 | K20: =J20*G20 -> 0
A21: 7.2.1.2. | B21: - pregled in sodelovanje na kontrolnih prevzemih posameznih sklopov dvigala in opreme dvigala, | D21: po projektnih zahtevah, PTP, | F21: kpl | G21: 5 | K21: =J21*G21 -> 0
A22: 7.2.1.3 | B22: - spremljava funkcionalnih preskusov v tovarnah za ločene komponente | D22: po projektnih zahtevah, PTP, | F22: kpl | G22: 5 | K22: =J22*G22 -> 0
A23: 7.2.2. | B23: Proizvodnja portalnega dvigala, strojna stroka ( S ) - na lokaciji dobavitelja
A24: 7.2.2.1 | B24: - kontrola dobave osnovnih materialov in komponent ter po potrebi izvedba naključnih porušnih preiskav na lokaciji proizvodnje dvigala med izvedbo (porušne preiskav na dveh vzorcih osnovnega materiala (kemijsko analizo, žilavost, natezni preskus) - potrditev kvalitete osnovnih materialov), | D24: po projektnih zahtevah, PTP, | F24: kpl | G24: 2 | K24: =J24*G24 -> 0
A25: 7.2.2.2 | B25: - kontrola izdelave nosilne konstrukcije z nadzorom varilskih del ter izvedba naključnih neporušnih kontrol na lokaciji proizvodnje dvigala med izvedbo (neporušno kontrolo zvarnih spojev (1 obisk RT ali UT kontrole) – kontrola v proizvodnji dobavitelja, | D25: po projektnih zahtevah, PTP, | F25: kpl | G25: 2 | K25: =J25*G25 -> 0
A26: 7.2.2.3 | B26: - potrditev kvalitete zvarnih spojev, | D26: po projektnih zahtevah, PTP, | F26: kpl | G26: 5 | K26: =J26*G26 -> 0
A27: 7.2.2.4 | B27: - kontrola montaže pogonov, | D27: po projektnih zahtevah, PTP, | F27: kpl | G27: 1 | K27: =J27*G27 -> 0
A28: 7.2.2.5 | B28: - spremljanje funkcionalnih preskusov v tovarni, | D28: po projektnih zahtevah, PTP, | F28: kpl | G28: 1 | K28: =J28*G28 -> 0
F29: SKUPAJ: | G29: 7.2. Kontrola kvalitet proizvodnje | K29: =SUM(K20:K28) -> 0
A31: 7.3 KONTROLA KVALITETE MONTAŽE
A33: 7.3.1. | B33: Montaža portalnega dvigala ( E in S stroka)
A34: 7.3.1.1. | B34: - kontrola in spremljava montaže na lokaciji | D34: po projektnih zahtevah, PTP, | F34: obisk | G34: 15 | K34: =G34*J34 -> 0
A35: 7.3.1.2 | B35: - sodelovanej pri vmesnih prevzemih opreme in komponent | D35: po projektnih zahtevah, PTP, | F35: obisk | G35: 5 | K35: =G35*J35 -> 0
A36: 7.3.1.3 | B36: - sodelovanje in kontrola končnih preizkusov na objektu vključno z bremenskimi testi | D36: po projektnih zahtevah, PTP, | F36: obisk | G36: 6 | K36: =G36*J36 -> 0
A38: 7.3.2. | B38: Vmesno poročilo z vrednotenjem rezulatov NKK | F38: kpl | G38: 4 | K38: =G38*J38 -> 0
A39: 7.3.3. | B39: Končno poročilo za zemljska dela za objekt z vrednotenjem NKK | F39: kpl | G39: 1 | K39: =G39*J39 -> 0
F40: SKUPAJ: | G40: 7.3. Kontrola kvalitete montaže | K40: =SUM(K34:K39) -> 0

Sheet 8_Geodetska dela
A1: IZGRADNJA ODLAGALIŠČA NIZKO- IN SREDNJERADIOAKTIVNIH ODPADKOV (NSRAO) VRBINA, KRŠKO
A2: Program dela Zunanje kontrole kvalitete (ZKK)
A5: 8. | B5: GEODETSKA DELA
A7: Zap. | B7: Opis del | F7: enota | G7: Enotna | H7: Cena na | I7: Skupaj
A8: št. | G8: količina | H8: enoto v € | I8: znesek (€)
A10: 8.1 | B10: Pregled tehnoloških elaboratov geodetskih del z izdelavo poročil | F10: kpl | G10: 3 | I10: =G10*H10 -> 0
A12: 8.2 | B12: Prenos nulte višine iz nivelmanske mreže I. reda na gradbišče, stabilizacija, terenske meritve in izdelava tehničnega poročila, | F12: kpl | G12: 1 | I12: =G12*H12 -> 0
A14: 8.3 | B14: Kontrola vzpostavitve in stabilizacije osnovne geodetske mreže na gradbišču – terenska kontrola in izdelava tehničnega poročila | F14: kpl | G14: 2 | I14: =G14*H14 -> 0
A16: 8.4 | B16: Kontrolne meritve zakoličb objektov | F16: kpl | G16: 5 | I16: =G16*H16 -> 0
A18: 8.5 | B18: Kontrolne meritve izvedbe gradbenih del na odlagalnem silosu (armatura, beton opaži), | F18: kpl | G18: 20 | I18: =G18*H18 -> 0
A20: 8.6 | B20: Kontrolne meritve pri montaži proge portalnega dvigala, meritev vgradnje sidrnih poščic in meritve žerjavne proge po končani montaži | F20: kpl | G20: 2 | I20: =G20*H20 -> 0
A22: 8.7 | B22: Izvedba enotnega geodetskega posnetka končnega stanja s pripravo elaborata za vpis objektov v uradne evidence. PID podloge izvedenih del zagotovi Naročnik | F22: kpl | G22: 1 | I22: =G22*H22 -> 0
A24: 8.8 | B24: Izdelava vmesnih in končnih poročil o izvedenih kontrolnih geodetskih meritvah
B25: vmesna poročila | F25: kpl | G25: 5 | I25: =G25*H25 -> 0
B26: končno poročilo | F26: kpl | G26: 1 | I26: =G26*H26 -> 0
B27: SKUPAJ: | F27: 8. GEODETSKA DELA | I27: =SUM(I10:I26) -> 0
